BEGIN:VCALENDAR
VERSION:2.0
PRODID:-//ChamberMaster//Event Calendar 2.0//EN
METHOD:PUBLISH
X-PUBLISHED-TTL:P3D
REFRESH-INTERVAL:P3D
CALSCALE:GREGORIAN
BEGIN:VEVENT
DTSTART:20140612T220000Z
DTEND:20140613T003000Z
X-MICROSOFT-CDO-ALLDAYEVENT:FALSE
SUMMARY:Leadership Class of 2014 Graduation & Dinner
DESCRIPTION:
X-ALT-DESC;FMTTYPE=text/html:
LOCATION:Crowne Plaza Hampton Marina 700 Settlers Landing Rd. Hampton\, VA
UID:e.832.2026
SEQUENCE:3
DTSTAMP:20260421T132505Z
URL:https://business.virginiapeninsulachamber.com/events/details/leadership-class-of-2014-graduation-dinner-06-12-2014-2026
END:VEVENT

END:VCALENDAR
