BEGIN:VCALENDAR
VERSION:2.0
PRODID:-//ChamberMaster//Event Calendar 2.0//EN
METHOD:PUBLISH
X-PUBLISHED-TTL:P3D
REFRESH-INTERVAL:P3D
CALSCALE:GREGORIAN
BEGIN:VEVENT
DTSTART:20130225T000000Z
DTEND:20130225T013000Z
X-MICROSOFT-CDO-ALLDAYEVENT:FALSE
SUMMARY:Keith Lockhardt and The Boston Pops Esplanade Orchestra ft. Ann Hampton Callaway
DESCRIPTION:Platinum Award-winning vocalist and song writer Ann Hampton Callaway joins Keith Lockhart and the Boston Pops to celebrate America's grande dame of entertainment\, Barbra Streisand. This special evening features soaring symphonic spins on Streisand's classic and unforgettable songs from her Broadway debut through her Hollywood hits (Funny Girl\, The Way We Are\, A Star is Born)\, and from her early pop recordings to her later concept albums (People\, Higher Ground\, What Matters Most). Sharing humorous and inspiring anecdotes of her collaborations with Streisand\, Ann provides an insider's glimpse into the life of this legend\, who has recorded six of Ann's songs on her recent albums\, including I've Dreamed of You\, the song Streisand sang to her husband\, James Brolin\, and their wedding day. To kick off the evening\, Maestro Lockhart leads the orchestra in a Bright Lights\, Big City tribute to the Big Apple with works by Bernstein\, Gershwin and Duke Ellington.
X-ALT-DESC;FMTTYPE=text/html:Platinum Award-winning vocalist and song writer Ann Hampton Callaway joins Keith Lockhart and the Boston Pops to celebrate America&rsquo\;s grande dame of entertainment\, Barbra Streisand. This special evening features soaring symphonic spins on Streisand&rsquo\;s classic and unforgettable songs from her Broadway debut through her Hollywood hits (Funny Girl\, The Way We Are\, A Star is Born)\, and from her early pop recordings to her later concept albums (People\, Higher Ground\, What Matters Most). Sharing humorous and inspiring anecdotes of her collaborations with Streisand\, Ann provides an insider&rsquo\;s glimpse into the life of this legend\, who has recorded six of Ann&rsquo\;s songs on her recent albums\, including I&rsquo\;ve Dreamed of You\, the song Streisand sang to her husband\, James Brolin\, and their wedding day. To kick off the evening\, Maestro Lockhart leads the orchestra in a Bright Lights\, Big City tribute to the Big Apple with works by Bernstein\, Gershwin and Duke Ellington.
LOCATION:Ferguson Center for the Arts
UID:e.832.1532
SEQUENCE:3
DTSTAMP:20260422T160652Z
URL:https://business.virginiapeninsulachamber.com/events/details/keith-lockhardt-and-the-boston-pops-esplanade-orchestra-ft-ann-hampton-callaway-02-24-2013-1532
END:VEVENT

END:VCALENDAR
