BEGIN:VCALENDAR
VERSION:2.0
PRODID:-//ChamberMaster//Event Calendar 2.0//EN
METHOD:PUBLISH
X-PUBLISHED-TTL:P3D
REFRESH-INTERVAL:P3D
CALSCALE:GREGORIAN
BEGIN:VEVENT
DTSTART:20130427T000000Z
DTEND:20130427T020000Z
X-MICROSOFT-CDO-ALLDAYEVENT:FALSE
SUMMARY:Jillian Michaels Maximize Your Life Tour
DESCRIPTION:Believe. Achieve. In this live\, intimate and uniquely personal evening\, America's health and wellness guru Jillian Michaels shows how to harness your potential\, kick-start your goals and live an exceptional life   sharing her keys to health\, success and happiness. No hype\, no false promises: just results LIVE ON STAGE for the very first time!
X-ALT-DESC;FMTTYPE=text/html:Believe. Achieve. In this live\, intimate and uniquely personal evening\, America&rsquo\;s health and wellness guru Jillian Michaels shows how to harness your potential\, kick-start your goals and live an exceptional life &mdash\; sharing her keys to health\, success and happiness. No hype\, no false promises: just results LIVE ON STAGE for the very first time!
LOCATION:Ferguson Center for the Arts
UID:e.832.1623
SEQUENCE:3
DTSTAMP:20260422T141928Z
URL:https://business.virginiapeninsulachamber.com/events/details/jillian-michaels-maximize-your-life-tour-04-26-2013-1623
END:VEVENT

END:VCALENDAR
