BEGIN:VCALENDAR
VERSION:2.0
PRODID:-//ChamberMaster//Event Calendar 2.0//EN
METHOD:PUBLISH
X-PUBLISHED-TTL:P3D
REFRESH-INTERVAL:P3D
CALSCALE:GREGORIAN
BEGIN:VEVENT
DTSTART:20111028T183000Z
DTEND:20111028T193000Z
X-MICROSOFT-CDO-ALLDAYEVENT:FALSE
SUMMARY:Jason's Deli Ribbon Cutting
DESCRIPTION:Join the staff on OCTOBER 28th from 2:30-3:30 pm for the Ribbon Cutting Ceremony prior to the Grand Opening on Halloween.\n\n\n\n \n\nNEWPORT NEWS\, VA   Jason's Deli is coming soon to Newport News.  The deli restaurant is scheduled to open at 10 a.m. Monday\, Oct. 31\, at 12515 Jefferson Ave. according to General Manager Michael Beiter.  \n\n \n\nThe newest Jason's Deli will join 230 deli restaurants in 28 states\, including eight in Virginia. It will be open daily until 10 p.m.\, in the Jefferson Market Place.\n\n \n\nThis award-winning casual dining restaurant features a unique combination of traditional deli food as well as Jason's own style of sandwiches\, soups\, its all-you-can-eat Salad Bar\, pasta\, vegetarian items\, kid's meals and stuffed baked potatoes.  Free ice cream for all dining guests is a popular Jason's tradition.\n\n \n\nJason's Deli offers take out\, delivery\, online ordering and fresh-made catering for all occasions and any size group.  Lisa Blondino is the sales manager.\n\n \n\n"People will find something they love on our menu because we offer so many great choices\," Manager Beiter stated.  "We also feel our catering and delivery services can help the area business community\, and families will enjoy our being open every day of the week\," he added.  Beiter continued\, "Parents especially will appreciate our kid's menu and its value with no high fructose corn syrup or artificial colors and dyes."\n\n \n\nJason's Deli is the Number One Family Restaurant in Parents magazine's Top 10 for 2011\, and has received Restaurant & Institution's Consumers' Choice and Nation's Restaurant News Golden Chain awards.\n\n \n\nFor more information and catering orders\, visit www.jasonsdeli.com or call the deli at 757-898-3978.\n\nAttention Media Representatives:  For additional news\, photos and interviews\, please contact daniel.helfman@jasonsdeli.com or call 512-417-0236.
X-ALT-DESC;FMTTYPE=text/html:<span style="font-size: 12px"><span style="font-style: italic\;"><strong>Join the staff on OCTOBER 28th from 2:30-3:30 pm for the Ribbon Cutting Ceremony prior to the Grand Opening on Halloween.</strong></span><br />\n<br />\n&nbsp\;<br />\n<span style="font-family: times new roman">NEWPORT NEWS\, VA &ndash\; Jason&rsquo\;s Deli is coming soon to Newport News.&nbsp\; The deli restaurant is scheduled to open at 10 a.m. Monday\, Oct. 31\, at 12515 Jefferson Ave. according to General Manager Michael Beiter.&nbsp\; </span><br />\n&nbsp\;<br />\n<span style="font-family: times new roman">The newest Jason&rsquo\;s Deli will join 230 deli restaurants in 28 states\, including eight in Virginia. It will be open daily until 10 p.m.\, in the Jefferson Market Place.</span><br />\n&nbsp\;<br />\n<span style="font-family: times new roman">This award-winning casual dining restaurant features a unique combination of traditional deli food as well as Jason&rsquo\;s own style of sandwiches\, soups\, its all-you-can-eat Salad Bar\, pasta\, vegetarian items\, kid&rsquo\;s meals and stuffed baked potatoes.&nbsp\; Free ice cream for all dining guests is a popular Jason&rsquo\;s tradition.</span><br />\n&nbsp\;<br />\n<span style="font-family: times new roman">Jason&rsquo\;s Deli offers take out\, delivery\, online ordering and fresh-made catering for all occasions and any size group.&nbsp\; Lisa Blondino is the sales manager.</span><br />\n&nbsp\;<br />\n<span style="font-family: times new roman">&ldquo\;People will find something they love on our menu because we offer so many great choices\,&rdquo\; Manager Beiter stated.&nbsp\; &ldquo\;We also feel our catering and delivery services can help the area business community\, and families will enjoy our being open every day of the week\,&rdquo\; he added.&nbsp\; Beiter continued\, &ldquo\;Parents especially will appreciate our kid&rsquo\;s menu and its value with no high fructose corn syrup or artificial colors and dyes.&rdquo\;</span><br />\n&nbsp\;<br />\n<span style="font-family: times new roman">Jason&rsquo\;s Deli is the Number One Family Restaurant in <em>Parents</em> magazine&rsquo\;s Top 10 for 2011\, and has received <em>Restaurant &amp\; Institution&rsquo\;s</em> Consumers&rsquo\; Choice and <em>Nation&rsquo\;s Restaurant News </em>Golden Chain awards.</span><br />\n&nbsp\;<br />\n<span style="font-family: times new roman">For more information and catering orders\, visit www.jasonsdeli.com or call the deli at 757-898-3978.</span><br />\n<strong><em><u><span style="font-family: times new roman">Attention Media Representatives:&nbsp\; For additional news\, photos and interviews\, please contact daniel.helfman@jasonsdeli.com or call 512-417-0236.&nbsp\;</span></u></em></strong></span><br />\n
LOCATION:12515 Jefferson Ave Newport News\, VA
UID:e.832.1262
SEQUENCE:3
DTSTAMP:20260423T181647Z
URL:https://business.virginiapeninsulachamber.com/events/details/jason-s-deli-ribbon-cutting-10-28-2011-1262
END:VEVENT

END:VCALENDAR
