BEGIN:VCALENDAR
VERSION:2.0
PRODID:-//ChamberMaster//Event Calendar 2.0//EN
METHOD:PUBLISH
X-PUBLISHED-TTL:P3D
REFRESH-INTERVAL:P3D
CALSCALE:GREGORIAN
BEGIN:VEVENT
DTSTART:20110804T160000Z
DTEND:20110804T170000Z
X-MICROSOFT-CDO-ALLDAYEVENT:FALSE
SUMMARY:Inaugural Pink Bag Lunch
DESCRIPTION:The  Outstanding Women Exchange of the Virginia Peninsula Chamber of Commerce's Women in Business Council  invites you to attend their first  Pink Bag Luncheon.\n\n	\n\n	The purpose is to introduce OWE to interested women in the Peninsula Business Community\, share their vision and mission and have a round table discussion regarding future Pink Bag Luncheon topics.\n\n	\n\n	The first meeting is complimentary\, don't hestistate to sign up today\, seating is limited.  Once you have signed up on our website click on the link above and you will be able to purchase your lunch from Panera's and it will be waiting for you at the Chamber.
X-ALT-DESC;FMTTYPE=text/html:<p>\n	The&nbsp\; Outstanding Women Exchange of the Virginia Peninsula Chamber of Commerce&#39\;s Women in Business Council&nbsp\; invites you to attend their first&nbsp\; Pink Bag Luncheon.</p>\n<p>\n	<br />\n	The purpose is to introduce OWE to interested women in the Peninsula Business Community\, share their vision and mission and have a round table discussion regarding future Pink Bag Luncheon topics.<br />\n	<br />\n	The first meeting is complimentary\, don&#39\;t hestistate to sign up today\,<em><u><strong> seating is limited</strong></u></em>.&nbsp\; Once you have signed up on our website click on the link above and you will be able to purchase your lunch from Panera&#39\;s and it will be waiting for you at the Chamber.&nbsp\;</p>\n<p>\n	&nbsp\;&nbsp\;&nbsp\;&nbsp\;&nbsp\;&nbsp\;&nbsp\;&nbsp\;&nbsp\;&nbsp\;&nbsp\;&nbsp\;&nbsp\;&nbsp\;&nbsp\;&nbsp\;&nbsp\;&nbsp\;&nbsp\;&nbsp\;&nbsp\;&nbsp\;&nbsp\;&nbsp\;&nbsp\;&nbsp\;&nbsp\;&nbsp\;&nbsp\;&nbsp\;&nbsp\;&nbsp\;&nbsp\;&nbsp\;&nbsp\;&nbsp\;&nbsp\;&nbsp\;&nbsp\;&nbsp\;&nbsp\;&nbsp\;&nbsp\;&nbsp\;&nbsp\;&nbsp\;&nbsp\;&nbsp\;&nbsp\;<span _fck_bookmark="1" style="display: none">&nbsp\;</span><span _fck_bookmark="1" style="display: none">&nbsp\;</span><span _fck_bookmark="1" style="display: none">&nbsp\;</span><span _fck_bookmark="1" style="display: none">&nbsp\;</span><span _fck_bookmark="1" style="display: none">&nbsp\;</span><span _fck_bookmark="1" style="display: none"> </span>&nbsp\; &nbsp\;&nbsp\;&nbsp\;&nbsp\;&nbsp\;&nbsp\;&nbsp\;&nbsp\;&nbsp\;&nbsp\;&nbsp\;&nbsp\;&nbsp\;&nbsp\;&nbsp\;&nbsp\;&nbsp\;&nbsp\;&nbsp\;&nbsp\;</p>\n<p style="text-align: center">\n	&nbsp\;</p>\n<p>\n	&nbsp\;&nbsp\;&nbsp\;&nbsp\;&nbsp\;&nbsp\;&nbsp\;&nbsp\;&nbsp\;&nbsp\;&nbsp\;<span _fck_bookmark="1" style="display: none">&nbsp\;</span><span _fck_bookmark="1" style="display: none">&nbsp\;</span><span _fck_bookmark="1" style="display: none">&nbsp\;</span><span _fck_bookmark="1" style="display: none">&nbsp\;</span></p>\n
LOCATION:Virginia Peninsula Chamber of Commerce Lakefront Plaza 21 Enterprise Parkway\, Suite 100 Hampton\, VA 23666
UID:e.832.1234
SEQUENCE:3
DTSTAMP:20260423T210211Z
URL:https://business.virginiapeninsulachamber.com/events/details/inaugural-pink-bag-lunch-08-04-2011-1234
END:VEVENT

END:VCALENDAR
