BEGIN:VCALENDAR
VERSION:2.0
PRODID:-//ChamberMaster//Event Calendar 2.0//EN
METHOD:PUBLISH
X-PUBLISHED-TTL:P3D
REFRESH-INTERVAL:P3D
CALSCALE:GREGORIAN
BEGIN:VEVENT
DTSTART:20121102T230000Z
DTEND:20121103T020000Z
X-MICROSOFT-CDO-ALLDAYEVENT:FALSE
SUMMARY:Hi-Ho Bunco
DESCRIPTION:5th Annual Hi-Ho Bunco Tournament with all proceeds to benefit the Sarah Bonwell Hudgins Foundation.  All game prizes from Hi-Ho Silver!  Raffle items donated from area merchants.  $25.00 per person (21 or older\, only).  Register now at www.sarahbonwellhudgins.org or call 757-827-8757. \n\n\n\nNo experience necessary.  Sign up on your own or with your Bunco group.  Snacks\, Door Prizes and Goody Bag included.  Beverages available.  Each group of 12 (pod) has a 50/50 chance of winning a great Hi-Ho Silver prize!  \n\n\n\nAlso looking for Sponsors for this popular event.  Join the Bunco craze and help out a great organization!
X-ALT-DESC;FMTTYPE=text/html:<big><span style="font-family: verdana"><span style="font-size: 12px">5th Annual Hi-Ho Bunco Tournament with all proceeds to benefit the Sarah Bonwell Hudgins Foundation.&nbsp\; All game prizes from Hi-Ho Silver!&nbsp\; Raffle items donated from area merchants.&nbsp\; $25.00 per person (21 or older\, only).&nbsp\; Register now at <a href="http://www.sarahbonwellhudgins.org">www.sarahbonwellhudgins.org</a> or call 757-827-8757.&nbsp\;<br />\n<br />\nNo experience necessary.&nbsp\; Sign up on your own or with your Bunco group.&nbsp\; Snacks\, Door Prizes&nbsp\;and Goody Bag included.&nbsp\; Beverages available.&nbsp\; Each group of 12 (pod) has a 50/50 chance of winning a great Hi-Ho Silver prize!&nbsp\;&nbsp\;<br />\n<br />\nAlso looking for Sponsors for this popular event.&nbsp\; Join the Bunco craze and help out a great organization!</span></span></big>
LOCATION:Sarah Bonwell Hudgins Gymnasium 51 Battle Road\, Hampton\, 23666
UID:e.832.1472
SEQUENCE:3
DTSTAMP:20260422T205934Z
URL:https://business.virginiapeninsulachamber.com/events/details/hi-ho-bunco-11-02-2012-1472
END:VEVENT

END:VCALENDAR
