BEGIN:VCALENDAR
VERSION:2.0
PRODID:-//ChamberMaster//Event Calendar 2.0//EN
METHOD:PUBLISH
X-PUBLISHED-TTL:P3D
REFRESH-INTERVAL:P3D
CALSCALE:GREGORIAN
BEGIN:VEVENT
DTSTART:20121214T140000Z
DTEND:20121214T210000Z
X-MICROSOFT-CDO-ALLDAYEVENT:FALSE
SUMMARY:H.E.L.P. Is Coming To Your Community
DESCRIPTION:H.E.L.P. is "Coming To Your Community"...DMV2go Mobile Unit available at site to offer full DMV services. Also\, a Food Drive for the H.E.L.P. Food Pantry...non perishable foods. Event will be from 9:00am-4:00pm on Friday\, December14th\, 2012.
X-ALT-DESC;FMTTYPE=text/html:H.E.L.P. is &quot\;Coming To Your Community&quot\;...DMV2go Mobile Unit available at site to offer full DMV services. Also\, a Food Drive for the H.E.L.P. Food Pantry...non perishable foods. Event will be from 9:00am-4:00pm on Friday\, December14th\, 2012.
LOCATION:H.E.L.P. Office\, 329 Buckroe Avenue\, Hampton\, Virginia
UID:e.832.1555
SEQUENCE:3
DTSTAMP:20260422T210053Z
URL:https://business.virginiapeninsulachamber.com/events/details/h-e-l-p-is-coming-to-your-community-12-14-2012-1555
END:VEVENT

END:VCALENDAR
