BEGIN:VCALENDAR
VERSION:2.0
PRODID:-//ChamberMaster//Event Calendar 2.0//EN
METHOD:PUBLISH
X-PUBLISHED-TTL:P3D
REFRESH-INTERVAL:P3D
CALSCALE:GREGORIAN
BEGIN:VEVENT
DTSTART:20130919T110000Z
DTEND:20130919T170000Z
X-MICROSOFT-CDO-ALLDAYEVENT:FALSE
SUMMARY:H.E.L.P.\, Inc.'s 16th Annual Richard Allen Hayes Memorial Golf Tournament
DESCRIPTION:Looking for All Golfers to participate in our biggest Tournament yet. On Thursday Sept. 19\, 2013 at The Hampton's Golf Course\, 320 Butler Farms Rd. H.E.L.P.\, Inc. is offering you the prime opportunity to pull out that argyle sweater sock combo you've been saving.  Come and join us as a sponsor\, a team\, or an individual. If you cannot join us for the day there are ample sponsorship opportunities from holes\, to a hole-in-one and longest drive\, etc.\, and even the entire event.  Come on out and enjoy our
X-ALT-DESC;FMTTYPE=text/html:Looking for All Golfers to participate in our biggest Tournament yet. On Thursday Sept. 19\, 2013 at The Hampton&#39\;s Golf Course\, 320 Butler Farms Rd. H.E.L.P.\, Inc. is offering you the prime opportunity to pull out that argyle sweater sock combo you&#39\;ve been saving. &nbsp\;Come and join us as a sponsor\,&nbsp\;a team\, or an individual. If you cannot join us for the day there are ample sponsorship opportunities from holes\, to a hole-in-one and longest drive\, etc.\, and even the entire event. &nbsp\;Come on out and enjoy our&nbsp\;
LOCATION:The Hamptons\, 320 Butler Farm Rd. Hampton\, VA
UID:e.832.1620
SEQUENCE:3
DTSTAMP:20260422T040230Z
URL:https://business.virginiapeninsulachamber.com/events/details/h-e-l-p-inc-s-16th-annual-richard-allen-hayes-memorial-golf-tournament-09-19-2013-1620
END:VEVENT

END:VCALENDAR
