BEGIN:VCALENDAR
VERSION:2.0
PRODID:-//ChamberMaster//Event Calendar 2.0//EN
METHOD:PUBLISH
X-PUBLISHED-TTL:P3D
REFRESH-INTERVAL:P3D
CALSCALE:GREGORIAN
BEGIN:VEVENT
DTSTART:20110526T153000Z
DTEND:20110526T160000Z
X-MICROSOFT-CDO-ALLDAYEVENT:FALSE
SUMMARY:Grand Opening & Ribbon Cutting - Hibachi Grill & Sushi Buffet
DESCRIPTION:Please join us for our Grand Opening and Ribbon Cutting Ceremony.\n\nComplimentary buffett will be served from 11:30 to 12:00
X-ALT-DESC;FMTTYPE=text/html:Please join us for our Grand Opening and Ribbon Cutting Ceremony.<br />\nComplimentary buffett will be served from 11:30 to 12:00
LOCATION:12745 Jefferson Ave Newport News\, VA 23602
UID:e.832.1220
SEQUENCE:3
DTSTAMP:20260424T001841Z
URL:https://business.virginiapeninsulachamber.com/events/details/grand-opening-ribbon-cutting-hibachi-grill-sushi-buffet-05-26-2011-1220
END:VEVENT

END:VCALENDAR
