BEGIN:VCALENDAR
VERSION:2.0
PRODID:-//ChamberMaster//Event Calendar 2.0//EN
METHOD:PUBLISH
X-PUBLISHED-TTL:P3D
REFRESH-INTERVAL:P3D
CALSCALE:GREGORIAN
BEGIN:VEVENT
DTSTART;VALUE=DATE:20130527
DTEND;VALUE=DATE:20130705
TRANSP:TRANSPARENT
X-MICROSOFT-CDO-ALLDAYEVENT:TRUE
SUMMARY:Governor's Bowl Chamber of Commerce Challenge Food & Fund Drive
DESCRIPTION:In an effort to keep Virginia's Food bank shelves stocked during the critical summer months\, Governor Bob McDonnell launched the 2nd Annual Governor's Bowl Campaign Challenge.  The campaign began on Memorial Day and continues to Independence Day.  Local Chamber Members are asked to join the Governor's Bowl food/fund drive in an effort to help reduce hunger in your community. \n\n\n\nIf you would like to participate in this event\, please register at www.vachamber.com/news-events/governors-bowl/ .  Once registered\, you will be contacted by a Foodbank representative.\n\n\n\nTo view Governor McDonnell's press release\, please visit www.administration.virginia.gov/News/viewrelease.cfm?id=1830\n\n\n\nFor more information\, you can contact Donna Tighe\, at 757.596.7188 or dtighe@hrfoodbank.org.\n\n\n\nThere's still time to register in hopes of winning the Governor's Bowl.\n\n\n\nThank you.
X-ALT-DESC;FMTTYPE=text/html:<span style="font-size: 11px\;">In an effort to keep&nbsp\;Virginia&#39\;s Food bank shelves stocked during the critical summer&nbsp\;months\, Governor&nbsp\;Bob McDonnell launched the 2nd Annual Governor&#39\;s Bowl Campaign Challenge.&nbsp\; The campaign&nbsp\;began on Memorial Day and continues to Independence Day.&nbsp\; Local Chamber Members&nbsp\;are asked to&nbsp\;join the Governor&#39\;s Bowl food/fund drive in an effort to help reduce hunger in your community.&nbsp\;<br />\n<br />\nIf you would like to participate in this event\, please&nbsp\;register at <span style="font-family: \;"><a href="http://www.vachamber.com/news-events/governors-bowl/"><font color="#0000ff">www.vachamber.com/news-events/governors-bowl/</font></a></span></span><span style="font-size: 11px\;"> .&nbsp\; Once registered\, you will be contacted by&nbsp\;a Foodbank representative.<br />\n<br />\n<span style="font-family: arial\;">To view Governor McDonnell&#39\;s press release\, please visit <a href="http://www.administration.virginia.gov/News/viewrelease.cfm?id=1830">www.administration.virginia.gov/News/viewrelease.cfm?id=1830</a></span><br />\n<br />\nFor more information\, you can contact Donna Tighe\, at 757.596.7188 or <a href="mailto:dtighe@hrfoodbank.org">dtighe@hrfoodbank.org</a>.<br />\n<br />\nThere&#39\;s still time to&nbsp\;register in hopes of winning the Governor&#39\;s Bowl.<br />\n<br />\nThank you.</span><br />\n<br />\n<br />\n
LOCATION:
UID:e.832.1673
SEQUENCE:3
DTSTAMP:20260422T084233Z
URL:https://business.virginiapeninsulachamber.com/events/details/governor-s-bowl-chamber-of-commerce-challenge-food-fund-drive-05-27-2013-1673
END:VEVENT

END:VCALENDAR
