BEGIN:VCALENDAR
VERSION:2.0
PRODID:-//ChamberMaster//Event Calendar 2.0//EN
METHOD:PUBLISH
X-PUBLISHED-TTL:P3D
REFRESH-INTERVAL:P3D
CALSCALE:GREGORIAN
BEGIN:VEVENT
DTSTART:20260619T160000Z
DTEND:20260619T160000Z
X-MICROSOFT-CDO-ALLDAYEVENT:FALSE
SUMMARY:Golf Tournament to Support Serve the City Peninsula
DESCRIPTION:Annual Golf Tournament at Ford's Colony Country Club to support Serve the City Peninsula.\n\nSponsorships are available on the web site\n\nIn-kind donations are welcome for raffle prizes\n\n\nFour Player Captain's Choice\n\n8:00 AM Check In / 9:00 AM Shotgun Start\n\nRegistration:\n\nIncludes:  green fees\, cart fees\, range balls\, welcome bag\, polo shirt\, post round lunch\n\n \n\n \n\n\n\n\n\n\n\n\n\nFull 4 Player Team\n\n$600\n\n2 Players\n\n$300\n\n \n\n\n\n\n\n\n\n\n\n\n\n3 Players\n\n$450\n\nIndividual\n\n$150\n\n \n\n\n\n\n\n\n\n\n\n\n\n\n\nTeam Prizes Awarded for\n\n1st\, 2nd\, 3rd\n\nIndividual awards for\n\nLongest Drive\n\nClosest to the Pin\n\nDay of Tournament:\n\nPurchase at Check-In\n\nMulligans available for purchase at check in   $10 CASH ONLY\n\nRaffle Prize tickets available at check in   $5.00 each\, 3 for $10\, 7 for $20\n\n50/50 Drawing tickets available at check in   $10\n\nCASH or QR Code ONLY   NO ATM ON SITE\n\nPlayer/Team Registration closes May 1st\, 2026
X-ALT-DESC;FMTTYPE=text/html:<span style="font-size:14px"><strong>Annual Golf Tournament&nbsp\;at Ford&#39\;s Colony Country Club to support Serve the City Peninsula.</strong></span><br />\nSponsorships are available on the web site<br />\nIn-kind donations are welcome&nbsp\;for raffle prizes\n<div style="margin-left:0px\; margin-right:0px">\n<div>\n<h3 style="text-align:center"><strong>Four Player Captain&rsquo\;s Choice</strong></h3>\n\n<h3 style="text-align:center">8:00 AM Check In / 9:00 AM Shotgun Start</h3>\n\n<h2 style="text-align:center"><strong>Registration:</strong></h2>\n\n<h4 style="text-align:center"><strong>Includes:&nbsp\; green fees\, cart fees\, range balls\, welcome bag\, polo shirt\, post round lunch</strong></h4>\n\n<h4 style="text-align:center">&nbsp\;</h4>\n\n<div>&nbsp\;</div>\n</div>\n</div>\n\n<div style="margin-left:0px !important\; margin-right:0px !important">\n<div>\n<div>\n<div>\n<div style="margin-left:0px\; margin-right:0px">\n<div>\n<h4 style="text-align:center">Full 4 Player Team</h4>\n\n<h4 style="text-align:center">$600</h4>\n\n<h4 style="text-align:center">2 Players</h4>\n\n<h4 style="text-align:center">$300</h4>\n\n<div>&nbsp\;</div>\n</div>\n</div>\n</div>\n</div>\n</div>\n\n<div>\n<div>\n<div>\n<div style="margin-left:0px\; margin-right:0px">\n<div>\n<h4 style="text-align:center">3 Players</h4>\n\n<h4 style="text-align:center">$450</h4>\n\n<h4 style="text-align:center">Individual</h4>\n\n<h4 style="text-align:center">$150</h4>\n\n<div>&nbsp\;</div>\n</div>\n</div>\n</div>\n</div>\n</div>\n</div>\n\n<div style="margin-left:0px !important\; margin-right:0px !important">\n<div>\n<div>\n<div>\n<div style="margin-left:0px\; margin-right:0px">\n<div>\n<h2 style="text-align:center"><strong>Team Prizes Awarded for</strong></h2>\n\n<h3 style="text-align:center">1<sup>st</sup>\, 2<sup>nd</sup>\, 3<sup>rd</sup></h3>\n\n<h2 style="text-align:center"><strong>Individual awards for</strong></h2>\n\n<h3 style="text-align:center">Longest Drive</h3>\n\n<h3 style="text-align:center">Closest to the Pin</h3>\n\n<h2 style="text-align:center"><strong>Day of Tournament:</strong></h2>\n\n<h3 style="text-align:center"><strong>Purchase at Check-In</strong></h3>\n\n<h3 style="text-align:center">Mulligans available for purchase at check in &ndash\; $10 CASH ONLY</h3>\n\n<h3 style="text-align:center">Raffle Prize tickets available at check in &ndash\; $5.00 each\, 3 for $10\, 7 for $20</h3>\n\n<h3 style="text-align:center">50/50 Drawing tickets available at check in &ndash\; $10</h3>\n\n<h3 style="text-align:center"><strong>CASH or QR Code ONLY &ndash\; NO ATM ON SITE</strong></h3>\n\n<h2 style="text-align:center">Player/Team Registration closes May 1st\, 2026</h2>\n</div>\n</div>\n</div>\n</div>\n</div>\n</div>\n
LOCATION:Ford's Colony Country Club 240 Fords Colony Dr. Williamsburg\, VA 23188
UID:e.832.11948
SEQUENCE:3
DTSTAMP:20260423T172519Z
URL:https://business.virginiapeninsulachamber.com/events/details/golf-tournament-to-support-serve-the-city-peninsula-11948
END:VEVENT

END:VCALENDAR
