BEGIN:VCALENDAR
VERSION:2.0
PRODID:-//ChamberMaster//Event Calendar 2.0//EN
METHOD:PUBLISH
X-PUBLISHED-TTL:P3D
REFRESH-INTERVAL:P3D
CALSCALE:GREGORIAN
BEGIN:VEVENT
DTSTART;VALUE=DATE:20130416
DTEND;VALUE=DATE:20130417
TRANSP:TRANSPARENT
X-MICROSOFT-CDO-ALLDAYEVENT:TRUE
SUMMARY:Global Open House-Troy University
DESCRIPTION:Troy University to host Global Open House on April 16\n\n \n\nTroy University will host a Global Open House and Career Chat on Tuesday\, April 16 to assist prospective students in the areas of academic strategy for career development\, financial assistance and admissions and credit transfers.\n\n \n\nActivities at Troy University' s Hampton Roads location will be held at the Fairfield Inn\,  1560 Crossways Blvd\, Chesapeake\, VA 23320 from 12:00 through 7:00. Those wishing to participate can register by location online at http://www.troy.edu/openhouse. Registration deadline for the event is April 12.\n\n \n\nApplication fees will be waived for those who apply for admission to TROY during a Global Open House event at a location or online on April 16.\n\n \n\nIn addition to the local event\, Open Houses will be held at the University's four Alabama campuses and 22 of its Global Campus locations\, as well as online. The University will host two virtual open house sessions that day   one at noon and the other at 8 p.m. Registration for a virtual Open House session is also available at http://www.troy.edu/openhouse
X-ALT-DESC;FMTTYPE=text/html:<strong>&nbsp\; &nbsp\; &nbsp\; &nbsp\; &nbsp\; &nbsp\; &nbsp\; &nbsp\; &nbsp\; &nbsp\; &nbsp\; &nbsp\; &nbsp\; &nbsp\; &nbsp\; &nbsp\; &nbsp\; &nbsp\; &nbsp\; &nbsp\; &nbsp\; &nbsp\; &nbsp\; &nbsp\; &nbsp\; &nbsp\; &nbsp\; &nbsp\; &nbsp\; &nbsp\;&nbsp\;</strong><br />\n&nbsp\;<br />\n<span style="font-size:11px\;"><span style="font-family:arial\;"><strong>Troy University to host Global Open House on April 16</strong><br />\n&nbsp\;<br />\nTroy University will host a Global Open House and Career Chat on Tuesday\, April 16 to assist prospective students in the areas of academic strategy for career development\, financial assistance and admissions and credit transfers.<br />\n&nbsp\;<br />\nActivities at Troy University&rsquo\; s Hampton Roads location will be held <span style="color:black\;">at the Fairfield Inn\, &nbsp\;1560 Crossways Blvd\, Chesapeake\, VA 23320</span> from 12:00 through 7:00. Those wishing to participate can register by location online at <a href="http://www.troy.edu/openhouse">http://www.troy.edu/openhouse</a>. Registration deadline for the event is April 12.<br />\n&nbsp\;<br />\nApplication fees will be waived for those who apply for admission to TROY during a Global Open House event at a location or online on April 16.<br />\n&nbsp\;<br />\nIn addition to the local event\, Open Houses will be held at the University&rsquo\;s four Alabama campuses and 22 of its Global Campus locations\, as well as online. The University will host two virtual open house sessions that day &ndash\; one at noon and the other at 8 p.m. Registration for a virtual Open House session is also available at <a href="http://www.troy.edu/openhouse">http://www.troy.edu/openhouse</a></span></span>
LOCATION:
UID:e.832.1626
SEQUENCE:3
DTSTAMP:20260422T123455Z
URL:https://business.virginiapeninsulachamber.com/events/details/global-open-house-troy-university-04-16-2013-1626
END:VEVENT

END:VCALENDAR
