BEGIN:VCALENDAR
VERSION:2.0
PRODID:-//ChamberMaster//Event Calendar 2.0//EN
METHOD:PUBLISH
X-PUBLISHED-TTL:P3D
REFRESH-INTERVAL:P3D
CALSCALE:GREGORIAN
BEGIN:VEVENT
DTSTART:20130512T230000Z
DTEND:20130513T003000Z
X-MICROSOFT-CDO-ALLDAYEVENT:FALSE
SUMMARY:Glenn Miller Orchestra and The Diamonds
DESCRIPTION:The legend lives on as the most popular and respected Big Band in the world continues to inspire both young and old alike. The 17-piece orchestra\, under the direction of Nick Hilscher\, evokes warm waves of nostalgia with classics such as Chattanooga Choo-Choo\, Tuxedo Junction\, In the Mood and others. Joining the Orchestra for their own set is The Diamonds\, a multi-talented band with impeccable tight vocal harmonies who have been entertaining audiences of all ages since 1957! Don't miss an evening of all-time favorites with this magnificent coupling of two great bands!
X-ALT-DESC;FMTTYPE=text/html:The legend lives on as the most popular and respected Big Band in the world continues to inspire both young and old alike. The 17-piece orchestra\, under the direction of Nick Hilscher\, evokes warm waves of nostalgia with classics such as Chattanooga Choo-Choo\, Tuxedo Junction\, In the Mood and others. Joining the Orchestra for their own set is The Diamonds\, a multi-talented band with impeccable tight vocal harmonies who have been entertaining audiences of all ages since 1957! Don&rsquo\;t miss an evening of all-time favorites with this magnificent coupling of two great bands!
LOCATION:Ferguson Center for the Arts
UID:e.832.1544
SEQUENCE:3
DTSTAMP:20260422T110919Z
URL:https://business.virginiapeninsulachamber.com/events/details/glenn-miller-orchestra-and-the-diamonds-05-12-2013-1544
END:VEVENT

END:VCALENDAR
