BEGIN:VCALENDAR
VERSION:2.0
PRODID:-//ChamberMaster//Event Calendar 2.0//EN
METHOD:PUBLISH
X-PUBLISHED-TTL:P3D
REFRESH-INTERVAL:P3D
CALSCALE:GREGORIAN
BEGIN:VEVENT
DTSTART:20131006T180000Z
DTEND:20131006T200000Z
X-MICROSOFT-CDO-ALLDAYEVENT:FALSE
SUMMARY:Girls Who Read Lead
DESCRIPTION:On Sunday\, October 6 from 2 to 4 p.m.\, Girl Scouts of Colonial Coast will be hosting Girls Who Read LEAD\, a hands-on literacy event\, at the Hampton Library. Members of the community are invited to learn about Girl Scouts and be entertained by special community partner guests and Girl Scout crafts and activities. This event is an opportunity to learn about Girl Scouting and register to become a member of the premiere organization for girls\, as well as to help girls understand the importance?and fun?of reading\, writing and communicating. Current members of Girl Scouts who wear their uniform or Girl Scout T-shirt and bring a friend to register to be a member will receive a free gift.
X-ALT-DESC;FMTTYPE=text/html:On Sunday\, October 6 from 2 to 4 p.m.\, Girl Scouts of Colonial Coast will be hosting Girls Who Read LEAD\, a hands-on literacy event\, at the Hampton Library. Members of the community are invited to learn about Girl Scouts and be entertained by special community partner guests and Girl Scout crafts and activities. This event is an opportunity to learn about Girl Scouting and register to become a member of the premiere organization for girls\, as well as to help girls understand the importance?and fun?of reading\, writing and communicating. Current members of Girl Scouts who wear their uniform or Girl Scout T-shirt and bring a friend to register to be a member will receive a free gift. 
LOCATION:Hampton Library 4207 Victoria Blvd. Hampton\, VA 23669
UID:e.832.1856
SEQUENCE:3
DTSTAMP:20260422T020621Z
URL:https://business.virginiapeninsulachamber.com/events/details/girls-who-read-lead-10-06-2013-1856
END:VEVENT

END:VCALENDAR
