BEGIN:VCALENDAR
VERSION:2.0
PRODID:-//ChamberMaster//Event Calendar 2.0//EN
METHOD:PUBLISH
X-PUBLISHED-TTL:P3D
REFRESH-INTERVAL:P3D
CALSCALE:GREGORIAN
BEGIN:VEVENT
DTSTART:20130531T160000Z
DTEND:20130531T220000Z
X-MICROSOFT-CDO-ALLDAYEVENT:FALSE
SUMMARY:FREE Chair Massage
DESCRIPTION:FREE Chair Massage Friday May 31sr (12PM-2PM & 4PM-6PM)\n\n\n\nTwo Certified Massage Therapists will be performing 10-15 minutes of free chair massage!  If you've never tried massage before or you've never had one at Urban Wellness Massage\, now is the time to stop by! It's FREE to try!!
X-ALT-DESC;FMTTYPE=text/html:FREE Chair Massage Friday May 31sr (12PM-2PM &amp\; 4PM-6PM)<br />\n<br />\nTwo Certified Massage Therapists will be performing 10-15 minutes of free chair massage! &nbsp\;If you&#39\;ve never tried massage before or you&#39\;ve never had one at Urban Wellness Massage\, now is the time to stop by! It&#39\;s FREE to try!!&nbsp\;
LOCATION:Urban Wellness Massage 218-3 Wythe Creek Road Poquoson\, VA 23662
UID:e.832.1671
SEQUENCE:3
DTSTAMP:20260422T110437Z
URL:https://business.virginiapeninsulachamber.com/events/details/free-chair-massage-05-31-2013-1671
END:VEVENT

END:VCALENDAR
