BEGIN:VCALENDAR
VERSION:2.0
PRODID:-//ChamberMaster//Event Calendar 2.0//EN
METHOD:PUBLISH
X-PUBLISHED-TTL:P3D
REFRESH-INTERVAL:P3D
CALSCALE:GREGORIAN
BEGIN:VEVENT
DTSTART:20110525T140000Z
DTEND:20110525T153000Z
X-MICROSOFT-CDO-ALLDAYEVENT:FALSE
SUMMARY:Foodbank of the VA Peninsula Grand Opening/Ribbon Cutting
DESCRIPTION:Please join the Honorable Bob McDonnell in celebrating the grand opening of the Foodbank of the Virginia Peninsula's new facility.
X-ALT-DESC;FMTTYPE=text/html:Please join the Honorable Bob McDonnell in celebrating the grand opening of the Foodbank of the Virginia Peninsula's new facility.
LOCATION:2401 Aluminum Avenue\, Hampton\, VA
UID:e.832.172
SEQUENCE:3
DTSTAMP:20260424T002008Z
URL:https://business.virginiapeninsulachamber.com/events/details/foodbank-of-the-va-peninsula-grand-opening-ribbon-cutting-05-25-2011-172
END:VEVENT

END:VCALENDAR
