BEGIN:VCALENDAR
VERSION:2.0
PRODID:-//ChamberMaster//Event Calendar 2.0//EN
METHOD:PUBLISH
X-PUBLISHED-TTL:P3D
REFRESH-INTERVAL:P3D
CALSCALE:GREGORIAN
BEGIN:VEVENT
DTSTART;VALUE=DATE:20110501
DTEND;VALUE=DATE:20110502
TRANSP:TRANSPARENT
X-MICROSOFT-CDO-ALLDAYEVENT:TRUE
SUMMARY:Ferraris on the Vine
DESCRIPTION:38 Ferraris and their owners will be gathered at the Williamsburg Winery for an afternoon car show and judging.\n\nFood and wine packages will be available.
X-ALT-DESC;FMTTYPE=text/html:38 Ferraris and their owners will be gathered at the Williamsburg Winery for an afternoon car show and judging.\n<br>Food and wine packages will be available.
LOCATION:Williamsburg Winery
UID:e.832.161
SEQUENCE:3
DTSTAMP:20260424T001606Z
URL:https://business.virginiapeninsulachamber.com/events/details/ferraris-on-the-vine-05-01-2011-161
END:VEVENT

END:VCALENDAR
