BEGIN:VCALENDAR
VERSION:2.0
PRODID:-//ChamberMaster//Event Calendar 2.0//EN
METHOD:PUBLISH
X-PUBLISHED-TTL:P3D
REFRESH-INTERVAL:P3D
CALSCALE:GREGORIAN
BEGIN:VEVENT
DTSTART;VALUE=DATE:20140801
DTEND;VALUE=DATE:20140802
TRANSP:TRANSPARENT
X-MICROSOFT-CDO-ALLDAYEVENT:TRUE
SUMMARY:Famous Former Girl Scout Nomination
DESCRIPTION:Famous Former Girl Scout Nomination Girl Scouts of the Colonial Coast is currently accepting nominations for their annual Famous Former Girl Scouts recognition. Each year\, Girl Scouts of the Colonial Coast honors women in the community who have distinguished themselves as outstanding role models for girls and women through individual excellence and high levels of achievement in their professional activities and volunteer efforts. Nominees must exhibit qualities of the Girl Scout Promise and Law\, have a direct and powerful impact on those whom they are associated with\, exhibit a high degree of professionalism and leadership\, demonstrate a commitment to the southeastern Virginia and northeastern North Carolina community and impact their community in the course of their volunteer or civic activities.  Nominations can be completed online at gsccc.org. The deadline to submit nominations is Friday\, August 1 at 5 p.m. The Famous Former Girl Scouts Luncheon will take place on Thursday\, October 30.
X-ALT-DESC;FMTTYPE=text/html:Famous Former Girl Scout Nomination Girl Scouts of the Colonial Coast is currently accepting nominations for their annual Famous Former Girl Scouts recognition. Each year\, Girl Scouts of the Colonial Coast honors women in the community who have distinguished themselves as outstanding role models for girls and women through individual excellence and high levels of achievement in their professional activities and volunteer efforts. Nominees must exhibit qualities of the Girl Scout Promise and Law\, have a direct and powerful impact on those whom they are associated with\, exhibit a high degree of professionalism and leadership\, demonstrate a commitment to the southeastern Virginia and northeastern North Carolina community and impact their community in the course of their volunteer or civic activities.&nbsp\; Nominations can be completed online at gsccc.org. The deadline to submit nominations is Friday\, August 1 at 5 p.m. The Famous Former Girl Scouts Luncheon will take place on Thursday\, October 30.&nbsp\;
LOCATION:Online
UID:e.832.2042
SEQUENCE:3
DTSTAMP:20260421T102609Z
URL:https://business.virginiapeninsulachamber.com/events/details/famous-former-girl-scout-nomination-08-01-2014-2042
END:VEVENT

END:VCALENDAR
