BEGIN:VCALENDAR
VERSION:2.0
PRODID:-//ChamberMaster//Event Calendar 2.0//EN
METHOD:PUBLISH
X-PUBLISHED-TTL:P3D
REFRESH-INTERVAL:P3D
CALSCALE:GREGORIAN
BEGIN:VEVENT
DTSTART;VALUE=DATE:20140909
DTEND;VALUE=DATE:20140910
TRANSP:TRANSPARENT
X-MICROSOFT-CDO-ALLDAYEVENT:TRUE
SUMMARY:Event at Uno's Chicago Grill
DESCRIPTION:Kids Eat Free Every Tuesday - Every Tuesday is Family Night at Uno's    Kids Eat Free Every Tuesday  (one free kid's meal with each adult meal purchased).
X-ALT-DESC;FMTTYPE=text/html:<p><br type="_moz" />\nKids Eat Free Every Tuesday - Every Tuesday is Family Night at Uno&#39\;s&nbsp\;&nbsp\;&nbsp\; Kids Eat Free Every Tuesday&nbsp\; (one free kid&#39\;s meal with each adult meal purchased).&nbsp\;&nbsp\;&nbsp\;&nbsp\;</p>\n
LOCATION:5007 Victory Blvd Yorktown\, VA 23693
UID:e.832.2201
SEQUENCE:3
DTSTAMP:20260421T084239Z
URL:https://business.virginiapeninsulachamber.com/events/details/event-at-uno-s-chicago-grill-09-09-2014-2201
END:VEVENT

END:VCALENDAR
