BEGIN:VCALENDAR
VERSION:2.0
PRODID:-//ChamberMaster//Event Calendar 2.0//EN
METHOD:PUBLISH
X-PUBLISHED-TTL:P3D
REFRESH-INTERVAL:P3D
CALSCALE:GREGORIAN
BEGIN:VEVENT
DTSTART:20140908T150000Z
DTEND:20140908T190000Z
X-MICROSOFT-CDO-ALLDAYEVENT:FALSE
SUMMARY:Event at Uno's Chicago Grill
DESCRIPTION:Two For You Lunch -   Daily specials starting at $6.99  - Served Mon - Fri til 3pm.  Be sure to join our Lunch Punch Club - when you buy 5 lunches\, the 6th one is free.
X-ALT-DESC;FMTTYPE=text/html:Two For You Lunch -&nbsp\;&nbsp\; Daily specials starting at $6.99&nbsp\; - Served Mon - Fri til 3pm.&nbsp\;&nbsp\;Be sure to join our Lunch Punch Club - when you buy 5 lunches\, the 6th one is free.&nbsp\;&nbsp\;
LOCATION:Uno Pizzeria & Grill 5007 Victory Blvd Yorktown\, VA 23693
UID:e.832.2196
SEQUENCE:3
DTSTAMP:20260421T084332Z
URL:https://business.virginiapeninsulachamber.com/events/details/event-at-uno-s-chicago-grill-09-08-2014-2196
END:VEVENT

END:VCALENDAR
