BEGIN:VCALENDAR
VERSION:2.0
PRODID:-//ChamberMaster//Event Calendar 2.0//EN
METHOD:PUBLISH
X-PUBLISHED-TTL:P3D
REFRESH-INTERVAL:P3D
CALSCALE:GREGORIAN
BEGIN:VEVENT
DTSTART;VALUE=DATE:20140907
DTEND;VALUE=DATE:20140908
TRANSP:TRANSPARENT
X-MICROSOFT-CDO-ALLDAYEVENT:TRUE
SUMMARY:Event at Uno's Chicago Grill
DESCRIPTION:Football season is here and we've got the Sunday NFL Ticket in the Bar.   Come watch the games Sundays\, Mondays\,and Thursdays and enjoy appetizers for 1/2 price\, wings or bites for 50 cents\, and drink specials for $5.
X-ALT-DESC;FMTTYPE=text/html:<p>Football season is here and we&#39\;ve got the Sunday NFL&nbsp\;Ticket in&nbsp\;the Bar.&nbsp\;&nbsp\; Come watch the games Sundays\, Mondays\,and Thursdays and&nbsp\;enjoy appetizers&nbsp\;for 1/2 price\,&nbsp\;wings or&nbsp\;bites for 50 cents\, and&nbsp\;drink specials for $5.&nbsp\;&nbsp\;&nbsp\;&nbsp\;</p>\n
LOCATION:5007 Victory Blvd Yorktown\, VA 23693
UID:e.832.2202
SEQUENCE:3
DTSTAMP:20260421T085803Z
URL:https://business.virginiapeninsulachamber.com/events/details/event-at-uno-s-chicago-grill-09-07-2014-2202
END:VEVENT

END:VCALENDAR
