BEGIN:VCALENDAR
VERSION:2.0
PRODID:-//ChamberMaster//Event Calendar 2.0//EN
METHOD:PUBLISH
X-PUBLISHED-TTL:P3D
REFRESH-INTERVAL:P3D
CALSCALE:GREGORIAN
BEGIN:VEVENT
DTSTART;VALUE=DATE:20140906
DTEND;VALUE=DATE:20140907
TRANSP:TRANSPARENT
X-MICROSOFT-CDO-ALLDAYEVENT:TRUE
SUMMARY:Event at Uno's Chicago Grill
DESCRIPTION:Free Pizza - Check out our takeout special for the month of September------   Buy any pizza\, get one free!!    Valid every weekend during the month of September for takeout.   (Friday\, Saturday\, and Sunday)
X-ALT-DESC;FMTTYPE=text/html:Free Pizza - Check out our takeout special for the month of September------&nbsp\;&nbsp\; Buy any pizza\, get one free!!&nbsp\;&nbsp\;&nbsp\; Valid every weekend during the month of September for takeout.&nbsp\;&nbsp\; (Friday\, Saturday\, and Sunday)
LOCATION:5007 Victory Blvd
UID:e.832.2203
SEQUENCE:3
DTSTAMP:20260421T085756Z
URL:https://business.virginiapeninsulachamber.com/events/details/event-at-uno-s-chicago-grill-09-06-2014-2203
END:VEVENT

END:VCALENDAR
