BEGIN:VCALENDAR
VERSION:2.0
PRODID:-//ChamberMaster//Event Calendar 2.0//EN
METHOD:PUBLISH
X-PUBLISHED-TTL:P3D
REFRESH-INTERVAL:P3D
CALSCALE:GREGORIAN
BEGIN:VEVENT
DTSTART:20140819T190000Z
DTEND:20140819T220000Z
X-MICROSOFT-CDO-ALLDAYEVENT:FALSE
SUMMARY:Event at Uno's Chicago Grill
DESCRIPTION:Nightly Bar Food Specials 3pm-6pm & 9pm-CL daily.    Tuesday is Individual Deep Dish Pizza Night -  Any individual pizza for $5
X-ALT-DESC;FMTTYPE=text/html:<p><br />\nNightly Bar Food Specials 3pm-6pm &amp\; 9pm-CL daily.&nbsp\;&nbsp\;&nbsp\; Tuesday is Individual Deep Dish Pizza Night -&nbsp\; Any individual pizza for $5</p>\n
LOCATION:Uno's @ Kiln Creek
UID:e.832.2189
SEQUENCE:3
DTSTAMP:20260421T120822Z
URL:https://business.virginiapeninsulachamber.com/events/details/event-at-uno-s-chicago-grill-08-19-2014-2189
END:VEVENT

END:VCALENDAR
