BEGIN:VCALENDAR
VERSION:2.0
PRODID:-//ChamberMaster//Event Calendar 2.0//EN
METHOD:PUBLISH
X-PUBLISHED-TTL:P3D
REFRESH-INTERVAL:P3D
CALSCALE:GREGORIAN
BEGIN:VEVENT
DTSTART:20140815T190000Z
DTEND:20140815T220000Z
X-MICROSOFT-CDO-ALLDAYEVENT:FALSE
SUMMARY:Event at Uno's Chicago Grill
DESCRIPTION:Daily Food Bar Specials - everyday from 3pm-6pm and 9pm till closing.  Today's Special - 1/2 price off appetizers
X-ALT-DESC;FMTTYPE=text/html:Daily Food Bar Specials - everyday from 3pm-6pm and 9pm till closing. &nbsp\;Today&#39\;s Special - 1/2 price off appetizers
LOCATION:Uno Pizzeria & Grill 5007 Victory Blvd Yorktown\, VA 23608
UID:e.832.2185
SEQUENCE:3
DTSTAMP:20260421T102155Z
URL:https://business.virginiapeninsulachamber.com/events/details/event-at-uno-s-chicago-grill-08-15-2014-2185
END:VEVENT

END:VCALENDAR
