BEGIN:VCALENDAR
VERSION:2.0
PRODID:-//ChamberMaster//Event Calendar 2.0//EN
METHOD:PUBLISH
X-PUBLISHED-TTL:P3D
REFRESH-INTERVAL:P3D
CALSCALE:GREGORIAN
BEGIN:VEVENT
DTSTART:20120108T190000Z
DTEND:20120108T210000Z
X-MICROSOFT-CDO-ALLDAYEVENT:FALSE
SUMMARY:Event at Trinity Lutheran School
DESCRIPTION:TLS will host an open house for the public.
X-ALT-DESC;FMTTYPE=text/html:<p>\n	<span style="background-color: lime"><span style="font-family: verdana"><span style="font-size: 11px">TLS will host an open house for the public.</span></span></span></p>\n
LOCATION:6812 River Road\, Newport News\, VA. 23607
UID:e.832.1270
SEQUENCE:3
DTSTAMP:20260423T124654Z
URL:https://business.virginiapeninsulachamber.com/events/details/event-at-trinity-lutheran-school-01-08-2012-1270
END:VEVENT

END:VCALENDAR
