BEGIN:VCALENDAR
VERSION:2.0
PRODID:-//ChamberMaster//Event Calendar 2.0//EN
METHOD:PUBLISH
X-PUBLISHED-TTL:P3D
REFRESH-INTERVAL:P3D
CALSCALE:GREGORIAN
BEGIN:VEVENT
DTSTART:20111104T230000Z
DTEND:20111105T020000Z
X-MICROSOFT-CDO-ALLDAYEVENT:FALSE
SUMMARY:Event at Sarah Bonwell Hudgins Foundation\, Inc.
DESCRIPTION:4th Annual Hi-Ho Bunco Tournament! \n\n\n\nAll game prizes from Hi-Ho Silver jewelry!  $25.00 per person includes refreshments\, door prizes and goody bag.  Raffles and beverages available - must be 21 years or older to attend.  Come with your Bunco group or as an individual.  If necessary\, we teach you to play!  Held in the Sarah Bonwell Hudgins Center's Gymnasium\, 51 Battle Road\, Hampton.\n\n\n\nVisit our website www.sarahbonwellhudgins.org to securely register or call 827-8757 for more information.  All proceeds benefit the Sarah Bonwell Hudgins Foundation to serve people with intellectual and development disabilities.
X-ALT-DESC;FMTTYPE=text/html:<strong>4th Annual Hi-Ho Bunco Tournament!</strong>&nbsp\;<br />\n<br />\nAll game prizes&nbsp\;from <strong>Hi-Ho Silver </strong>jewelry!&nbsp\; $25.00 per person includes refreshments\, door prizes and goody bag.&nbsp\; Raffles and beverages available - must be 21 years or older to attend.&nbsp\; Come with your Bunco group or as an individual.&nbsp\; If necessary\, we teach you to play!&nbsp\; Held&nbsp\;in the Sarah Bonwell Hudgins Center&#39\;s Gymnasium\, 51 Battle Road\, Hampton.<br />\n<br />\nVisit our website <a href="http://www.sarahbonwellhudgins.org">www.sarahbonwellhudgins.org</a> to securely register or call 827-8757 for more information.&nbsp\; All proceeds benefit the Sarah Bonwell Hudgins Foundation to serve people with intellectual and development disabilities.
LOCATION:Sarah Bonwell Hudgins Center's Gymnasium 51 Battle Road\, Hampton\, VA 23666
UID:e.832.1260
SEQUENCE:3
DTSTAMP:20260423T154255Z
URL:https://business.virginiapeninsulachamber.com/events/details/event-at-sarah-bonwell-hudgins-foundation-inc-11-04-2011-1260
END:VEVENT

END:VCALENDAR
