BEGIN:VCALENDAR
VERSION:2.0
PRODID:-//ChamberMaster//Event Calendar 2.0//EN
METHOD:PUBLISH
X-PUBLISHED-TTL:P3D
REFRESH-INTERVAL:P3D
CALSCALE:GREGORIAN
BEGIN:VEVENT
DTSTART:20121024T233000Z
DTEND:20121025T010000Z
X-MICROSOFT-CDO-ALLDAYEVENT:FALSE
SUMMARY:Esperanza Spalding -- Radio Music Society
DESCRIPTION:Bassist\, vocalist\, composer Esperanza Spalding unveils the brilliant compositions of her new release\, Radio Music Society into a dynamic "big band" format. Inspired by her desire to write for large ensembles\, Spalding has crafted her performances to spotlight the talents of her 12-piece world class band. Weaving high-caliber artists into the context of a big band could be a challenge\, but not for Spalding. Her ability to combine musical styles makes her writing accessible to audiences across the spectrum. Her new CD\, Radio Music Society\, is a companion release\, rather than a sequel\, to Spalding's previous internationally acclaimed Chamber Music Society\, which culminated in her winning the Best New Artist Grammy Award in 2011.
X-ALT-DESC;FMTTYPE=text/html:Bassist\, vocalist\, composer Esperanza Spalding unveils the brilliant compositions of her new release\, Radio Music Society into a dynamic &ldquo\;big band&rdquo\; format. Inspired by her desire to write for large ensembles\, Spalding has crafted her performances to spotlight the talents of her 12-piece world class band. Weaving high-caliber artists into the context of a big band could be a challenge\, but not for Spalding. Her ability to combine musical styles makes her writing accessible to audiences across the spectrum. Her new CD\, Radio Music Society\, is a companion release\, rather than a sequel\, to Spalding&rsquo\;s previous internationally acclaimed Chamber Music Society\, which culminated in her winning the Best New Artist Grammy Award in 2011.<br />\n
LOCATION:Ferguson Center for the Arts
UID:e.832.1509
SEQUENCE:3
DTSTAMP:20260422T223940Z
URL:https://business.virginiapeninsulachamber.com/events/details/esperanza-spalding-radio-music-society-10-24-2012-1509
END:VEVENT

END:VCALENDAR
