BEGIN:VCALENDAR
VERSION:2.0
PRODID:-//ChamberMaster//Event Calendar 2.0//EN
METHOD:PUBLISH
X-PUBLISHED-TTL:P3D
REFRESH-INTERVAL:P3D
CALSCALE:GREGORIAN
BEGIN:VEVENT
DTSTART:20120920T230000Z
DTEND:20120921T013000Z
X-MICROSOFT-CDO-ALLDAYEVENT:FALSE
SUMMARY:Emmylou Harris and Her Red Dirt Boys
DESCRIPTION:Already celebrated as a discoverer and interpreter of other artists' songs\, 12-time Grammy Award winner Emmylou Harris has\, in the last decade\, gained admiration as much for her eloquently straightforward songwriting as for her incomparably expressive singing. In fact\, few in pop or country music have achieved such honesty or revealed such maturity in their writing. Forty years into her career\, Harris shares the hard-earned wisdom that  hopefully if not inevitably comes with getting older\, though she's never stopped looking ahead. Harris' new CD\, Hard Bargain\, touches on the autobiographical while reaching for the universal. Join us for a truly special evening of music from an industry icon.
X-ALT-DESC;FMTTYPE=text/html:Already celebrated as a discoverer and interpreter of other artists&rsquo\; songs\, 12-time Grammy Award winner Emmylou Harris has\, in the last decade\, gained admiration as much for her eloquently straightforward songwriting as for her incomparably expressive singing. In fact\, few in pop or country music have achieved such honesty or revealed such maturity in their writing. Forty years into her career\, Harris shares the hard-earned wisdom that&mdash\; hopefully if not inevitably&mdash\;comes with getting older\, though she&rsquo\;s never stopped looking ahead. Harris&rsquo\; new CD\,<em> Hard Bargain</em>\, touches on the autobiographical while reaching for the universal. Join us for a truly special evening of music from an industry icon.
LOCATION:Ferguson Center for the Arts
UID:e.832.1485
SEQUENCE:3
DTSTAMP:20260423T003143Z
URL:https://business.virginiapeninsulachamber.com/events/details/emmylou-harris-and-her-red-dirt-boys-09-20-2012-1485
END:VEVENT

END:VCALENDAR
