BEGIN:VCALENDAR
VERSION:2.0
PRODID:-//ChamberMaster//Event Calendar 2.0//EN
METHOD:PUBLISH
X-PUBLISHED-TTL:P3D
REFRESH-INTERVAL:P3D
CALSCALE:GREGORIAN
BEGIN:VEVENT
DTSTART:20130314T233000Z
DTEND:20130315T010000Z
X-MICROSOFT-CDO-ALLDAYEVENT:FALSE
SUMMARY:Elvis Lives!
DESCRIPTION:Elvis Lives! is an unforgettable multi-media and live musical journey across Elvis' life. His iconic style\, embraced by many of today's artists\, continues to intrigue audiences of all generations. Featuring finalists from Elvis Presley Enterprises' worldwide Ultimate Elvis Tribute Artist Contest\, as well as a tribute to Ann-Margret\, audiences "Can't Help Falling In Love" with this phenomenal theatrical concert experience.
X-ALT-DESC;FMTTYPE=text/html:Elvis Lives! is an unforgettable multi-media and live musical journey across Elvis&#39\; life. His iconic style\, embraced by many of today&#39\;s artists\, continues to intrigue audiences of all generations. Featuring finalists from Elvis Presley Enterprises&#39\; worldwide Ultimate Elvis Tribute Artist Contest\, as well as a tribute to Ann-Margret\, audiences &quot\;Can&#39\;t Help Falling In Love&quot\; with this phenomenal theatrical concert experience. 
LOCATION:Ferguson Center for the Arts
UID:e.832.1534
SEQUENCE:3
DTSTAMP:20260422T141618Z
URL:https://business.virginiapeninsulachamber.com/events/details/elvis-lives-03-14-2013-1534
END:VEVENT

END:VCALENDAR
