BEGIN:VCALENDAR
VERSION:2.0
PRODID:-//ChamberMaster//Event Calendar 2.0//EN
METHOD:PUBLISH
X-PUBLISHED-TTL:P3D
REFRESH-INTERVAL:P3D
CALSCALE:GREGORIAN
BEGIN:VEVENT
DTSTART:20140321T154500Z
DTEND:20140321T173000Z
X-MICROSOFT-CDO-ALLDAYEVENT:FALSE
SUMMARY:Economic Impact Award\, ODU Economics Clbu
DESCRIPTION:7th Annual Economic Impact Award will be presented to Newport News Shipbuilding.
X-ALT-DESC;FMTTYPE=text/html:7th Annual Economic Impact Award will be presented to Newport News Shipbuilding.
LOCATION:Norfolk Marriott Waterside
UID:e.832.1954
SEQUENCE:3
DTSTAMP:20260421T183552Z
URL:https://business.virginiapeninsulachamber.com/events/details/economic-impact-award-odu-economics-clbu-03-21-2014-1954
END:VEVENT

END:VCALENDAR
