BEGIN:VCALENDAR
VERSION:2.0
PRODID:-//ChamberMaster//Event Calendar 2.0//EN
METHOD:PUBLISH
X-PUBLISHED-TTL:P3D
REFRESH-INTERVAL:P3D
CALSCALE:GREGORIAN
BEGIN:VEVENT
DTSTART:20130518T000000Z
DTEND:20130519T013000Z
X-MICROSOFT-CDO-ALLDAYEVENT:FALSE
SUMMARY:Dreamgirls
DESCRIPTION:A sensational new stage production of Dreamgirls! Full of onstage joy and backstage drama\, Dreamgirls tells the story of an up-and-coming\, 1960s singing girl group\, and the triumphs and tribulations that come with fame and fortune. With music by Academy Award nominee Henry Krieger and book and lyrics by Tony and Grammy Award winner Tom Eyen\, Dreamgirls features the unforgettable hits: And I Am Telling You I'm Not Going\, One Night Only and Listen. This Tony and Academy Award winning musical sparkles like never before!
X-ALT-DESC;FMTTYPE=text/html:A sensational new stage production of Dreamgirls! Full of onstage joy and backstage drama\, Dreamgirls tells the story of an up-and-coming\, 1960s singing girl group\, and the triumphs and tribulations that come with fame and fortune. With music by Academy Award nominee Henry Krieger and book and lyrics by Tony and Grammy Award winner Tom Eyen\, Dreamgirls features the unforgettable hits: And I Am Telling You I&rsquo\;m Not Going\, One Night Only and Listen. This Tony and Academy Award winning musical sparkles like never before! 
LOCATION:Ferguson Center for the Arts
UID:e.832.1545
SEQUENCE:3
DTSTAMP:20260422T110645Z
URL:https://business.virginiapeninsulachamber.com/events/details/dreamgirls-05-17-2013-1545
END:VEVENT

END:VCALENDAR
