BEGIN:VCALENDAR
VERSION:2.0
PRODID:-//ChamberMaster//Event Calendar 2.0//EN
METHOD:PUBLISH
X-PUBLISHED-TTL:P3D
REFRESH-INTERVAL:P3D
CALSCALE:GREGORIAN
BEGIN:VEVENT
DTSTART:20130120T003000Z
DTEND:20130121T020000Z
X-MICROSOFT-CDO-ALLDAYEVENT:FALSE
SUMMARY:Disney's Beauty and the Beast
DESCRIPTION:The Most Beautiful Love Story Ever Told Comes to Life!\n\nDisney's Beauty and The Beast\, the smash hit Broadway musical\, is coming to Hampton Roads! Based on the Academy Award-winning animated feature film\, this eye-popping spectacle has won the hearts of over 35 million people worldwide. This classic musical love story is filled with unforgettable characters\, lavish sets and costumes\, and dazzling production numbers including Be Our Guest and the beloved title song. Experience the romance and enchantment of Disney's Beauty and The Beast at the Ferguson Center for the Arts!
X-ALT-DESC;FMTTYPE=text/html:The Most Beautiful Love Story Ever Told Comes to Life!<br />\nDisney&rsquo\;s Beauty and The Beast\, the smash hit Broadway musical\, is coming to Hampton Roads! Based on the Academy Award-winning animated feature film\, this eye-popping spectacle has won the hearts of over 35 million people worldwide. This classic musical love story is filled with unforgettable characters\, lavish sets and costumes\, and dazzling production numbers including Be Our Guest and the beloved title song. Experience the romance and enchantment of Disney&rsquo\;s Beauty and The Beast at the Ferguson Center for the Arts!<br />\n<br />\n<br />\n
LOCATION:Ferguson Center for the Arts
UID:e.832.1525
SEQUENCE:3
DTSTAMP:20260422T174846Z
URL:https://business.virginiapeninsulachamber.com/events/details/disney-s-beauty-and-the-beast-01-19-2013-1525
END:VEVENT

END:VCALENDAR
