BEGIN:VCALENDAR
VERSION:2.0
PRODID:-//ChamberMaster//Event Calendar 2.0//EN
METHOD:PUBLISH
X-PUBLISHED-TTL:P3D
REFRESH-INTERVAL:P3D
CALSCALE:GREGORIAN
BEGIN:VEVENT
DTSTART:20121205T003000Z
DTEND:20121205T020000Z
X-MICROSOFT-CDO-ALLDAYEVENT:FALSE
SUMMARY:Dave Koz & Friends Christmas Tour 2012
DESCRIPTION:Dave Koz and Friends Christmas Tour 2012\, a cherished holiday tradition marking its 15th anniversary\, is an uplifting\, high-energy show the whole family will love. Get into the holiday spirit as some of music's biggest and brightest names jam on fresh\, lively arrangements of seasonal favorites\, led by multi-Grammy nominee and saxophonist extraordinaire Dave Koz. Joining Dave this year will be Grammy-nominated pianist/composer David Benoit\, Javier Colon\, winner of the inaugural season of NBC's hit television show\, "The Voice\," and the inimitable drummer/percussionist/vocalist Sheila E.\, who has toured with artists such as Prince\, Cyndi Lauper and Ringo Starr. Joining these special guests will be singer/songwriter Margo Rey. Koz's latest record\, the Grammy nominated Hello Tomorrow\, features the chart-topping hits "Put The Top Down" and "Anything's Possible." He has also released four classic holiday albums.
X-ALT-DESC;FMTTYPE=text/html:Dave Koz and Friends Christmas Tour 2012\, a cherished holiday tradition marking its 15th anniversary\, is an uplifting\, high-energy show the whole family will love. Get into the holiday spirit as some of music&rsquo\;s biggest and brightest names jam on fresh\, lively arrangements of seasonal favorites\, led by multi-Grammy nominee and saxophonist extraordinaire Dave Koz. Joining Dave this year will be Grammy-nominated pianist/composer David Benoit\, Javier Colon\, winner of the inaugural season of NBC&#39\;s hit television show\, &ldquo\;The Voice\,&rdquo\; and the inimitable drummer/percussionist/vocalist Sheila E.\, who has toured with artists such as Prince\, Cyndi Lauper and Ringo Starr. Joining these special guests will be singer/songwriter Margo Rey. Koz&rsquo\;s latest record\, the Grammy nominated Hello Tomorrow\, features the chart-topping hits &ldquo\;Put The Top Down&rdquo\; and &ldquo\;Anything&rsquo\;s Possible.&rdquo\; He has also released four classic holiday albums. 
LOCATION:Ferguson Center for the Arts
UID:e.832.1521
SEQUENCE:3
DTSTAMP:20260422T192504Z
URL:https://business.virginiapeninsulachamber.com/events/details/dave-koz-friends-christmas-tour-2012-12-04-2012-1521
END:VEVENT

END:VCALENDAR
