BEGIN:VCALENDAR
VERSION:2.0
PRODID:-//ChamberMaster//Event Calendar 2.0//EN
METHOD:PUBLISH
X-PUBLISHED-TTL:P3D
REFRESH-INTERVAL:P3D
CALSCALE:GREGORIAN
BEGIN:VEVENT
DTSTART:20130428T000000Z
DTEND:20130428T013000Z
X-MICROSOFT-CDO-ALLDAYEVENT:FALSE
SUMMARY:Daniel Rodriguez "Spirit of America" -- New York City's Singing Police Officer
DESCRIPTION:Daniel Rodriguez\, "America's Beloved Tenor\," came to light during one of the darkest times of our nation's history ... 9/11. This former New York City police officer comforted a grieving nation with his amazing voice in the days following that tragic event. We saw how his gift of music touched people\; we have come to know him as a man of courage and compassion. Now touring the world as a full-time professional singer\, his performances continue to uplift and inspire. Daniel will pay honor to all of our military and first responders with his "Spirit of America" concert. Join us for an exceptional evening filled with music in a way that only Daniel can deliver.\n\n\n\nSpecial Guest: The Highland Divas
X-ALT-DESC;FMTTYPE=text/html:Daniel Rodriguez\, &quot\;America&rsquo\;s Beloved Tenor\,&quot\; came to light during one of the darkest times of our nation&rsquo\;s history ... 9/11. This former New York City police officer comforted a grieving nation with his amazing voice in the days following that tragic event. We saw how his gift of music touched people\; we have come to know him as a man of courage and compassion. Now touring the world as a full-time professional singer\, his performances continue to uplift and inspire. Daniel will pay honor to all of our military and first responders with his &quot\;Spirit of America&quot\; concert. Join us for an exceptional evening filled with music in a way that only Daniel can deliver.<br />\n<br />\nSpecial Guest: The Highland Divas
LOCATION:Ferguson Center for the Arts
UID:e.832.1542
SEQUENCE:3
DTSTAMP:20260422T124139Z
URL:https://business.virginiapeninsulachamber.com/events/details/daniel-rodriguez-spirit-of-america-new-york-city-s-singing-police-officer-04-27-2013-1542
END:VEVENT

END:VCALENDAR
