BEGIN:VCALENDAR
VERSION:2.0
PRODID:-//ChamberMaster//Event Calendar 2.0//EN
METHOD:PUBLISH
X-PUBLISHED-TTL:P3D
REFRESH-INTERVAL:P3D
CALSCALE:GREGORIAN
BEGIN:VEVENT
DTSTART:20130310T230000Z
DTEND:20130311T003000Z
X-MICROSOFT-CDO-ALLDAYEVENT:FALSE
SUMMARY:Creole Choir of Cuba
DESCRIPTION:Prepare to be blown away: hear the passionate melodies\, wild harmonies and richly textured arrangements of these 10 inspiring vocalists (five men and five women). As you listen you will know this is something new from Cuba   the most original vocal sound to come out of the island in a long while. The Creole Choir's Cuban name "Desandann" means literally "descendents." Desandann sing in Creole\, Cuba's second language\, spoken by almost a million people\, a pragmatic fusion of African\, French\, and other languages. Multiple award winners\, this Grammy nominated Choir sing the vital music learnt at home from grandparents and parent as well as the songs of some of the foremost groups of contemporary Haitian scene.\n\n\n\n"exhilarating...sleek\, theatrical\, socially conscious and full of joyful life"\n\n The New York Times\n\n\n\n"The Creole Choir's experience is just as much for the emotions and gut as it is for the ears and eyes"\n\n Philadelphia Inquirer
X-ALT-DESC;FMTTYPE=text/html:Prepare to be blown away: hear the passionate melodies\, wild harmonies and richly textured arrangements of these 10 inspiring vocalists (five men and five women). As you listen you will know this is something new from Cuba &mdash\; the most original vocal sound to come out of the island in a long while. The Creole Choir&rsquo\;s Cuban name &ldquo\;Desandann&rdquo\; means literally &ldquo\;descendents.&rdquo\; Desandann sing in Creole\, Cuba&rsquo\;s second language\, spoken by almost a million people\, a pragmatic fusion of African\, French\, and other languages. Multiple award winners\, this Grammy nominated Choir sing the vital music learnt at home from grandparents and parent as well as the songs of some of the foremost groups of contemporary Haitian scene.<br />\n<br />\n&quot\;exhilarating...sleek\, theatrical\, socially conscious and full of joyful life&quot\;<br />\n&mdash\;The New York Times<br />\n<br />\n&quot\;The Creole Choir&#39\;s experience is just as much for the emotions and gut as it is for the ears and eyes&quot\;<br />\n&mdash\;Philadelphia Inquirer
LOCATION:Ferguson Center for the Arts
UID:e.832.1533
SEQUENCE:3
DTSTAMP:20260422T142129Z
URL:https://business.virginiapeninsulachamber.com/events/details/creole-choir-of-cuba-03-10-2013-1533
END:VEVENT

END:VCALENDAR
