BEGIN:VCALENDAR
VERSION:2.0
PRODID:-//ChamberMaster//Event Calendar 2.0//EN
METHOD:PUBLISH
X-PUBLISHED-TTL:P3D
REFRESH-INTERVAL:P3D
CALSCALE:GREGORIAN
BEGIN:VEVENT
DTSTART:20110414T154500Z
DTEND:20110414T200000Z
X-MICROSOFT-CDO-ALLDAYEVENT:FALSE
SUMMARY:Constant Contact-Grow Your Business with Easy\, Effective Emarketing-2011
DESCRIPTION:EVENT REGISTRATION IS CLOSED-SOLD OUT\n\n	\n\n	Join us at the Virginia Peninsula Chamber of Commerce for this 2 part seminar on Social Media\n\n	\n\n	Part 1-Social Media Made Simple \n\n	Take the mystery out of social media marketing!  Join us for upbeat learning and fun as you learn valuable ways to grow your business/organization.  It's a great opportunity to achieve more through building relationships and learning effective ways to use social media to stay connected to clients and prospects.\n\n	--Strategies and best practices to get the most out of you social media including time management and measuring the return of your activities.\n\n	--What social media really is\n\n	--Engagement: the key to socail media success\n\n	--How to incorporate social media marketing into your business life"without" losing productivity\n\n	--How to extend your online marketing reach with endorsement(getting your passionate customers to tell your story)\n\n	--Looking at real-life examples of how other businesses are using these low-cost tools to gain visibility\, develop relationships and drive sales and response\n\n	Part 2-Grow your Business with Easy\, Effective Emarketing!\n Come learn the keys to using the most powerful relationship-building technology tools available today! In fact\, easy\, inexpensive and highly effective tools like email marketing\, online surveys\, & event marketing (also in conjunction with social media) can *really* make an impact on your business.\n\n--Use Email marketing to stay top-of-mind\n\n--Showcase new products\n\n--Drive sales\, donations and more\n\n--Online Survey helps you engage your customers\, capture the interest of your prospects\, get feedback and gain insight into future needs\n\n--Event marketing helps get people in the door\, network with each other and is a great way to thank your customers\, volunteers and showcase upcoming products to help you expand your permission based list\n\n\n\npresented by\n\n\n\nGina Watkins with Constant Contact
X-ALT-DESC;FMTTYPE=text/html:<p _mce_style="text-align: left\;" align="center" style="text-align: left">\n	<span _mce_style="font-family: arial\, helvetica\, sans-serif\; font-size: 12pt\;" style="font-family: arial\, helvetica\, sans-serif\; font-size: 12pt"><span _mce_style="font-size: 8pt\;" style="font-size: 8pt"><span _mce_style="font-size: 12pt\;" style="font-size: 12pt"><span _mce_style="font-size: 12pt\;" style="font-size: 12pt"><span _mce_style="font-size: 12pt\;" style="font-size: 12pt"><strong><span style="color: rgb(255\,0\,0)"><span><span _mce_style="font-size: 8pt\;" style="font-size: 8pt"><span _mce_style="font-size: 12pt\;" style="font-size: 12pt"><span _mce_style="font-size: 12pt\;" style="font-size: 12pt"><span _mce_style="font-size: 12pt\;" style="font-size: 12pt"><span><span _mce_style="font-size: 12pt\;" style="font-size: 12pt"><span style="font-size: 12px">EVENT REGISTRATION IS CLOSED-SOLD OUT</span></span></span></span></span></span></span></span></span></strong><br />\n	<br />\n	<span><span _mce_style="font-size: 8pt\;" style="font-size: 8pt"><span _mce_style="font-size: 12pt\;" style="font-size: 12pt"><span _mce_style="font-size: 12pt\;" style="font-size: 12pt"><span _mce_style="font-size: 12pt\;" style="font-size: 12pt"><span><span _mce_style="font-size: 12pt\;" style="font-size: 12pt"><span style="font-size: 12px">Join us at the Virginia <strong>Peninsula Chamber </strong>of Commerce for this 2 part seminar on Social Media</span></span><br />\n	<br />\n	<span style="font-size: 11px"><strong><span _mce_style="font-size: 12pt\;">Part 1-Social Media Made Simple</span></strong></span><span _mce_style="font-family: arial\, helvetica\, sans-serif\;" style="font-family: arial\, helvetica\, sans-serif"> </span></span></span></span></span></span></span></span></span></span></span></span></p>\n<p _mce_style="text-align: left\;" align="center" style="text-align: left">\n	<span _mce_style="font-family: arial\, helvetica\, sans-serif\; font-size: 12pt\;" style="font-family: arial\, helvetica\, sans-serif\; font-size: 12pt"><span _mce_style="font-size: 8pt\;" style="font-size: 8pt"><span _mce_style="font-size: 12pt\;" style="font-size: 12pt"><span _mce_style="font-size: 12pt\;" style="font-size: 12pt"><span _mce_style="font-size: 12pt\;" style="font-size: 12pt"><span><span _mce_style="font-size: 8pt\;" style="font-size: 8pt"><span _mce_style="font-size: 12pt\;" style="font-size: 12pt"><span _mce_style="font-size: 12pt\;" style="font-size: 12pt"><span _mce_style="font-size: 12pt\;" style="font-size: 12pt"><span><span _mce_style="font-family: arial\, helvetica\, sans-serif\; font-size: 8pt\;" style="font-family: arial\, helvetica\, sans-serif\; font-size: 8pt">Take the mystery out of social media marketing!&nbsp\; Join us for upbeat learning and fun as you learn valuable ways to grow your business/organization.&nbsp\; It&#39\;s a great opportunity to achieve more through building relationships and learning effective ways to use social media to stay connected to clients and prospects.<br />\n	--Strategies and best practices to get the most out of you social media including time management and measuring the return of your activities.<br />\n	--What social media really is<br />\n	--Engagement: the key to socail media success<br />\n	--How to incorporate social media marketing into your business life&quot\;without&quot\; losing productivity<br />\n	--How to extend your online marketing reach with endorsement(getting your passionate customers to tell your story)<br />\n	--Looking at real-life examples of how other businesses are using these low-cost tools to gain visibility\, develop relationships and drive sales and response</span></span></span></span></span></span></span></span></span></span></span></span></p>\n<p _mce_style="text-align: left\;" align="center" style="text-align: left">\n	<span style="font-size: 11px"><span _mce_style="font-family: arial\, helvetica\, sans-serif\; font-size: 12pt\;" style="font-family: arial\, helvetica\, sans-serif"><span _mce_style="font-size: 8pt\;"><span _mce_style="font-size: 12pt\;"><span _mce_style="font-size: 12pt\;"><span _mce_style="font-size: 12pt\;"><span><span _mce_style="font-size: 8pt\;"><span _mce_style="font-size: 12pt\;"><span _mce_style="font-size: 12pt\;"><span _mce_style="font-size: 12pt\;"><span><span _mce_style="font-family: arial\, helvetica\, sans-serif\; font-size: 12pt\;" style="font-family: arial\, helvetica\, sans-serif"><strong>Part 2</strong>-<strong><span _mce_style="font-size: 10pt\;">Grow your Business with Easy\, Effective Emarketing!</span></strong></span></span></span></span></span></span></span></span></span></span></span></span></span></p>\n<span _mce_style="font-family: arial\, helvetica\, sans-serif\; font-size: 12pt\;" style="font-family: arial\, helvetica\, sans-serif\; font-size: 12pt"><span _mce_style="font-size: 8pt\;" style="font-size: 8pt"><span _mce_style="font-size: 12pt\;" style="font-size: 12pt"><span _mce_style="font-size: 12pt\;" style="font-size: 12pt"><span _mce_style="font-size: 12pt\;" style="font-size: 12pt"><span><span _mce_style="font-size: 8pt\;" style="font-size: 8pt"><span _mce_style="font-size: 12pt\;" style="font-size: 12pt"><span _mce_style="font-size: 12pt\;" style="font-size: 12pt"><span _mce_style="font-size: 10pt\;" style="font-size: 10pt">&nbsp\;</span></span></span></span></span></span></span></span></span></span><span _mce_style="font-size: 8pt\;" style="font-size: 8pt"><span _mce_style="font-size: 8pt\;" style="font-size: 8pt">Come learn the keys to using the most powerful relationship-building technology tools available today! In fact\, easy\, inexpensive and highly effective tools like email marketing\, online surveys\, &amp\; event marketing (also in conjunction with social media) can *really* make an impact on your business.<br />\n--Use Email marketing to stay top-of-mind<br />\n--Showcase new products<br />\n--Drive sales\, donations and more<br />\n--Online Survey helps you engage your customers\, capture the interest of your prospects\, get feedback and gain insight into future needs<br />\n--Event marketing helps get people in the door\, network with each other and is a great way to thank your customers\, volunteers and showcase upcoming products to help you expand your permission based list<br />\n<br />\n<em>presented by</em><br />\n<br />\n<strong>Gina Watkins with Constant Contact<span _fck_bookmark="1" style="display: none">&nbsp\;</span></strong></span></span>
LOCATION:21 Enterprise Parkway Ste 100 Hampton\, VA 23666 757-262-2000
UID:e.832.174
SEQUENCE:3
DTSTAMP:20260424T014619Z
URL:https://business.virginiapeninsulachamber.com/events/details/constant-contact-grow-your-business-with-easy-effective-emarketing-2011-04-14-2011-174
END:VEVENT

END:VCALENDAR
