BEGIN:VCALENDAR
VERSION:2.0
PRODID:-//ChamberMaster//Event Calendar 2.0//EN
METHOD:PUBLISH
X-PUBLISHED-TTL:P3D
REFRESH-INTERVAL:P3D
CALSCALE:GREGORIAN
BEGIN:VEVENT
DTSTART:20121204T003000Z
DTEND:20121204T020000Z
X-MICROSOFT-CDO-ALLDAYEVENT:FALSE
SUMMARY:Christmas with Sandi Patty
DESCRIPTION:As one of the most highly acclaimed performers of our time -- five Grammy awards\, four Billboard Music Awards\, three platinum records\, five gold records\, and 11 million CDs sold -- Sandi Patty is simply known as "The Voice." Introduced to the world with her rendition of The Star Spangled Banner during the rededication of the Statue of Liberty in 1986\, her version has become synonymous with patriotic celebration. Born into a Christian music family\, she has\, over her 33-year career\, established herself as a major force in the gospel music industry. She was inducted into the Gospel Music Hall of Fame in 2004\, and has released over 30 albums. Her debut full length symphonic pops album "Broadway Stories\," conducted by Maestro Jack Everly\, was released in October 2011.
X-ALT-DESC;FMTTYPE=text/html:As one of the most highly acclaimed performers of our time -- five Grammy awards\, four Billboard Music Awards\, three platinum records\, five gold records\, and 11 million CDs sold -- Sandi Patty is simply known as &ldquo\;The Voice.&rdquo\; Introduced to the world with her rendition of The Star Spangled Banner during the rededication of the Statue of Liberty in 1986\, her version has become synonymous with patriotic celebration. Born into a Christian music family\, she has\, over her 33-year career\, established herself as a major force in the gospel music industry. She was inducted into the Gospel Music Hall of Fame in 2004\, and has released over 30 albums. Her debut full length symphonic pops album &ldquo\;Broadway Stories\,&rdquo\; conducted by Maestro Jack Everly\, was released in October 2011.<br />\n
LOCATION:Ferguson Center for the Arts
UID:e.832.1520
SEQUENCE:3
DTSTAMP:20260422T210053Z
URL:https://business.virginiapeninsulachamber.com/events/details/christmas-with-sandi-patty-12-03-2012-1520
END:VEVENT

END:VCALENDAR
