BEGIN:VCALENDAR
VERSION:2.0
PRODID:-//ChamberMaster//Event Calendar 2.0//EN
METHOD:PUBLISH
X-PUBLISHED-TTL:P3D
REFRESH-INTERVAL:P3D
CALSCALE:GREGORIAN
BEGIN:VEVENT
DTSTART:20130209T010000Z
DTEND:20130209T023000Z
X-MICROSOFT-CDO-ALLDAYEVENT:FALSE
SUMMARY:China National Symphony Orchestra
DESCRIPTION:The China National Symphony Orchestra (CNSO) is one of the most outstanding professional symphony orchestras in China. Originally founded as the Central Philharmonic Orchestra of China in 1956\, the orchestra was restructured and renamed in 1996. The combination of consummate artistry\, dedication and professionalism of the orchestra's players has enabled the CNSO to maintain a consistently high level of performance and to create an orchestral tradition unique to China. For almost half a century\, the CNSO has introduced Chinese audiences to a vast repertoire of classical\, romantic\, modern and contemporary orchestral works by both Western and Asian composers.\n\n\n\nLeading the CNSO into the future are Director Guan Xia (Composer)\, Laureate Conductor Muhai Tang\, Principal Resident Conductor Li Xincao\, and Principal Guest Conductor En Shao.
X-ALT-DESC;FMTTYPE=text/html:The China National Symphony Orchestra (CNSO) is one of the most outstanding professional symphony orchestras in China. Originally founded as the Central Philharmonic Orchestra of China in 1956\, the orchestra was restructured and renamed in 1996. The combination of consummate artistry\, dedication and professionalism of the orchestra&rsquo\;s players has enabled the CNSO to maintain a consistently high level of performance and to create an orchestral tradition unique to China. For almost half a century\, the CNSO has introduced Chinese audiences to a vast repertoire of classical\, romantic\, modern and contemporary orchestral works by both Western and Asian composers.<br />\n<br />\nLeading the CNSO into the future are Director Guan Xia (Composer)\, Laureate Conductor Muhai Tang\, Principal Resident Conductor Li Xincao\, and Principal Guest Conductor En Shao.
LOCATION:Ferguson Center for the Arts
UID:e.832.1529
SEQUENCE:3
DTSTAMP:20260422T160539Z
URL:https://business.virginiapeninsulachamber.com/events/details/china-national-symphony-orchestra-02-08-2013-1529
END:VEVENT

END:VCALENDAR
