BEGIN:VCALENDAR
VERSION:2.0
PRODID:-//ChamberMaster//Event Calendar 2.0//EN
METHOD:PUBLISH
X-PUBLISHED-TTL:P3D
REFRESH-INTERVAL:P3D
CALSCALE:GREGORIAN
BEGIN:VEVENT
DTSTART:20130427T150000Z
DTEND:20130427T190000Z
X-MICROSOFT-CDO-ALLDAYEVENT:FALSE
SUMMARY:Celebration of the Military Child
DESCRIPTION:Peninsula Town Center and the Hampton Military Affairs Committee presents the first ever Military Child Appreciation Day. The month of April is dedicated to our brave youngsters who serve right along with their parents careers.
X-ALT-DESC;FMTTYPE=text/html:Peninsula Town Center and the Hampton Military Affairs Committee presents the first ever Military Child Appreciation Day. The month of April is dedicated to our brave youngsters who serve right along with their parents careers. 
LOCATION:Peninsula Town Center Town Square
UID:e.832.1634
SEQUENCE:3
DTSTAMP:20260422T123928Z
URL:https://business.virginiapeninsulachamber.com/events/details/celebration-of-the-military-child-04-27-2013-1634
END:VEVENT

END:VCALENDAR
