BEGIN:VCALENDAR
VERSION:2.0
PRODID:-//ChamberMaster//Event Calendar 2.0//EN
METHOD:PUBLISH
X-PUBLISHED-TTL:P3D
REFRESH-INTERVAL:P3D
CALSCALE:GREGORIAN
BEGIN:VEVENT
DTSTART:20130518T180000Z
DTEND:20130519T000000Z
X-MICROSOFT-CDO-ALLDAYEVENT:FALSE
SUMMARY:Celebrate Roses in Honor of the Armed Forces
DESCRIPTION:Celebrate Roses in Honor of the Armed Forces 2-8 p.m. Judging from 10 a.m.-12:30 p.m. Awards presentation at 3 pm
X-ALT-DESC;FMTTYPE=text/html:Celebrate Roses in Honor of the Armed Forces 2-8 p.m. Judging from 10 a.m.-12:30 p.m. Awards presentation at 3 pm 
LOCATION:near Dick's Sporting Goods
UID:e.832.1646
SEQUENCE:3
DTSTAMP:20260422T111722Z
URL:https://business.virginiapeninsulachamber.com/events/details/celebrate-roses-in-honor-of-the-armed-forces-05-18-2013-1646
END:VEVENT

END:VCALENDAR
