BEGIN:VCALENDAR
VERSION:2.0
PRODID:-//ChamberMaster//Event Calendar 2.0//EN
METHOD:PUBLISH
X-PUBLISHED-TTL:P3D
REFRESH-INTERVAL:P3D
CALSCALE:GREGORIAN
BEGIN:VEVENT
DTSTART:20121013T170000Z
DTEND:20121013T190000Z
X-MICROSOFT-CDO-ALLDAYEVENT:FALSE
SUMMARY:Celebrate Patrick Henry Mall's 25th Anniversary
DESCRIPTION:The community is invited to join Patrick Henry Mall in the celebration of its 25th Anniversary on Saturday\, October 13. Enjoy live musical entertainment by famed local musicians Slapwater\, activities and entertainment for children\, refreshments\, giveaways\, and the chance to enter to win $25 PREIT Mall American Express Gift Cards.\n\n	 \n\n	Also\, to commemorate the milestone\, several mall stores will offer various 25 percent discounts including Apricot Lane\, Best Buy Mobile\, Broadway Jewelers\, Chick-Fil-A\, Hair Cuttery\, Mia & Maxx\, N'Telos\, Picture People\, Piercing Pagoda\, Reeds Jewelers\, Verizon Wireless (We are Wireless)\, and Zales Jewelers. \n\n	 \n\n	For more information visit www.shoppatrickhenrymall.com or www.facebook.com/patrickhenrymall.
X-ALT-DESC;FMTTYPE=text/html:<p class="MsoNormal" style="line-height: normal\; margin: 0in 0in 0pt">\n	<span lang="EN" style="color: black\; mso-fareast-font-family: 'times new roman'\; mso-ansi-language: en"><font size="3">The community is invited to join Patrick Henry Mall in the celebration of its 25</font></span><sup><span lang="EN" style="color: black\; font-size: 10pt\; mso-fareast-font-family: 'times new roman'\; mso-ansi-language: en">th</span></sup><span lang="EN" style="color: black\; mso-fareast-font-family: 'times new roman'\; mso-ansi-language: en"><font size="3"> Anniversary on Saturday\, October 13. Enjoy live musical entertainment by famed local musicians Slapwater\, activities and entertainment for children\, refreshments\, giveaways\, and the chance to enter to win $25 PREIT Mall American Express Gift Cards.<o:p></o:p></font></span></p>\n<p class="MsoNormal" style="line-height: normal\; margin: 0in 0in 0pt">\n	<span lang="EN" style="color: #222222\; mso-fareast-font-family: 'times new roman'\; mso-ansi-language: en"><o:p><font size="3">&nbsp\;</font></o:p></span></p>\n<p class="MsoNormal" style="line-height: normal\; margin: 0in 0in 0pt">\n	<span lang="EN" style="color: black\; mso-fareast-font-family: 'times new roman'\; mso-ansi-language: en"><font size="3">Also\, to commemorate the milestone\, several mall stores will offer various 25 percent discounts including Apricot Lane\, Best Buy Mobile\, Broadway Jewelers\, Chick-Fil-A\, Hair Cuttery\, Mia &amp\; Maxx\, N&rsquo\;Telos\, Picture People\, Piercing Pagoda\, Reeds Jewelers\, Verizon Wireless (We are Wireless)\, and Zales Jewelers. <o:p></o:p></font></span></p>\n<p class="MsoNormal" style="line-height: normal\; margin: 0in 0in 0pt">\n	<span lang="EN" style="color: #222222\; mso-fareast-font-family: 'times new roman'\; mso-ansi-language: en"><o:p><font size="3">&nbsp\;</font></o:p></span></p>\n<p class="MsoNormal" style="line-height: normal\; margin: 0in 0in 0pt">\n	<font size="3"><span lang="EN" style="color: black\; mso-fareast-font-family: 'times new roman'\; mso-ansi-language: en">For more information visit </span><span lang="EN" style="color: #222222\; mso-fareast-font-family: 'times new roman'\; mso-ansi-language: en"><a href="http://www.shoppatrickhenrymall.com/"><span style="color: blue">www.shoppatrickhenrymall.com</span></a></span><span lang="EN" style="color: black\; mso-fareast-font-family: 'times new roman'\; mso-ansi-language: en"> or </span><span lang="EN" style="color: #222222\; mso-fareast-font-family: 'times new roman'\; mso-ansi-language: en"><a href="http://www.facebook.com/patrickhenrymall"><span style="color: blue">www.facebook.com/patrickhenrymall</span></a></span><span lang="EN" style="color: black\; mso-fareast-font-family: 'times new roman'\; mso-ansi-language: en">.<o:p></o:p></span></font></p>\n<p class="MsoNormal" style="margin: 0in 0in 10pt">\n	<o:p><font color="#000000" size="3">&nbsp\;</font></o:p></p>\n
LOCATION:Patrick Henry Mall
UID:e.832.1504
SEQUENCE:3
DTSTAMP:20260422T223806Z
URL:https://business.virginiapeninsulachamber.com/events/details/celebrate-patrick-henry-mall-s-25th-anniversary-10-13-2012-1504
END:VEVENT

END:VCALENDAR
