BEGIN:VCALENDAR
VERSION:2.0
PRODID:-//ChamberMaster//Event Calendar 2.0//EN
METHOD:PUBLISH
X-PUBLISHED-TTL:P3D
REFRESH-INTERVAL:P3D
CALSCALE:GREGORIAN
BEGIN:VEVENT
DTSTART:20140125T140000Z
DTEND:20140125T160000Z
X-MICROSOFT-CDO-ALLDAYEVENT:FALSE
SUMMARY:C. Waldo Scott Center Annual Donor's Breakfast
DESCRIPTION:C. Waldo Scott Center Board of Trustees' host annual Donor's Breakfast to benefit scholarship fund and other Scott Center programming.
X-ALT-DESC;FMTTYPE=text/html:C. Waldo Scott Center Board of Trustees&#39\; host annual Donor&#39\;s Breakfast to benefit scholarship fund and other Scott Center programming.
LOCATION:Downing-Gross Cultural Arts Center 2410 Wickham Ave.\, Newport News\, VA 23607
UID:e.832.1893
SEQUENCE:3
DTSTAMP:20260421T225104Z
URL:https://business.virginiapeninsulachamber.com/events/details/c-waldo-scott-center-annual-donor-s-breakfast-01-25-2014-1893
END:VEVENT

END:VCALENDAR
