BEGIN:VCALENDAR
VERSION:2.0
PRODID:-//ChamberMaster//Event Calendar 2.0//EN
METHOD:PUBLISH
X-PUBLISHED-TTL:P3D
REFRESH-INTERVAL:P3D
CALSCALE:GREGORIAN
BEGIN:VEVENT
DTSTART:20110714T120000Z
DTEND:20110714T133000Z
X-MICROSOFT-CDO-ALLDAYEVENT:FALSE
SUMMARY:Business Before Hours-I & O Medical Centers
DESCRIPTION:You are invited to attend the Business Before Hours networking event at our Peninsula South location.\n\n\n\nWe are the Premier Provider of Board-Certified Occupational Medicine in Hampton Roads\n\n\n\nRefreshments will be served
X-ALT-DESC;FMTTYPE=text/html:You are invited to attend&nbsp\;the Business Before Hours networking event at our Peninsula South location.<br />\n<br />\nWe are the Premier Provider of Board-Certified Occupational Medicine in Hampton Roads<br />\n<br />\nRefreshments will be served<br />\n<br />\n<br />\n
LOCATION:593 Aberdeen Road Hampton\, VA 23661
UID:e.832.1214
SEQUENCE:3
DTSTAMP:20260423T212034Z
URL:https://business.virginiapeninsulachamber.com/events/details/business-before-hours-i-o-medical-centers-07-14-2011-1214
END:VEVENT

END:VCALENDAR
