BEGIN:VCALENDAR
VERSION:2.0
PRODID:-//ChamberMaster//Event Calendar 2.0//EN
METHOD:PUBLISH
X-PUBLISHED-TTL:P3D
REFRESH-INTERVAL:P3D
CALSCALE:GREGORIAN
BEGIN:VEVENT
DTSTART:20110609T213000Z
DTEND:20110609T233000Z
X-MICROSOFT-CDO-ALLDAYEVENT:FALSE
SUMMARY:Business After Hours -Downing-Gross Cultural Arts Center
DESCRIPTION:The Downing-Gross Cultural Arts Center\, a 52\,000 square foot City of Newport News facility\, offers free and paid events every month including concerts\, plays\, dance performances\, movies\, children's programming and instruction.  Past performances ranges from area orchestras and ensembles\, stage plays\, local entertainment\, dance companies\, moving screenings and national recording artists.  In addition\, the Downing-Gross Cultural Arts Center provides rentable space available for a variety of functions\; meetings\, company functions\, private parties\, weddings\, political forums and more.\n\n\n\nTours will be provided and refreshments will be served.
X-ALT-DESC;FMTTYPE=text/html:The Downing-Gross Cultural Arts Center\, a 52\,000 square foot City of Newport News facility\, offers free and paid events every month including concerts\, plays\, dance performances\, movies\, children&#39\;s programming and instruction.&nbsp\; Past performances ranges from area orchestras and ensembles\, stage plays\, local entertainment\, dance companies\, moving screenings and national recording artists.&nbsp\; In addition\, the Downing-Gross Cultural Arts Center provides rentable space available for a variety of functions\; meetings\, company functions\, private parties\, weddings\, political forums and more.<br />\n<br />\nTours will be provided and refreshments will be served.<br />\n<br />\n&nbsp\; 
LOCATION:2410 Wickham Ave. Newport News\, VA 23607
UID:e.832.158
SEQUENCE:3
DTSTAMP:20260423T224521Z
URL:https://business.virginiapeninsulachamber.com/events/details/business-after-hours-downing-gross-cultural-arts-center-06-09-2011-158
END:VEVENT

END:VCALENDAR
