BEGIN:VCALENDAR
VERSION:2.0
PRODID:-//ChamberMaster//Event Calendar 2.0//EN
METHOD:PUBLISH
X-PUBLISHED-TTL:P3D
REFRESH-INTERVAL:P3D
CALSCALE:GREGORIAN
BEGIN:VEVENT
DTSTART:20110310T220000Z
DTEND:20110311T003000Z
X-MICROSOFT-CDO-ALLDAYEVENT:FALSE
SUMMARY:Business After Hours:American Red Cross\, Hampton Roads Chapter
DESCRIPTION:You are cordially invited to celebrate the Grand Opening of our new Headquarters
X-ALT-DESC;FMTTYPE=text/html:<p>\n	<span style="font-size: 14px\;"><span style="color: rgb(0\, 51\, 102)\;"><strong>You are cordially invited to celebrate the Grand Opening of our new Headquarters&nbsp\; </strong></span></span></p>\n<p style="text-align: center\;">\n	<span style="font-size: 14px\;"><span style="color: rgb(0\, 51\, 102)\;">&nbsp\; </span></span></p>\n
LOCATION:1323 W. Pembroke Ave. Hampton\, VA 23661
UID:e.832.157
SEQUENCE:3
DTSTAMP:20260424T032256Z
URL:https://business.virginiapeninsulachamber.com/events/details/business-after-hours-american-red-cross-hampton-roads-chapter-03-10-2011-157
END:VEVENT

END:VCALENDAR
