BEGIN:VCALENDAR
VERSION:2.0
PRODID:-//ChamberMaster//Event Calendar 2.0//EN
METHOD:PUBLISH
X-PUBLISHED-TTL:P3D
REFRESH-INTERVAL:P3D
CALSCALE:GREGORIAN
BEGIN:VEVENT
DTSTART:20111018T170000Z
DTEND:20111018T200000Z
X-MICROSOFT-CDO-ALLDAYEVENT:FALSE
SUMMARY:Branding the Candidate Book Signing.
DESCRIPTION:Equidata will host a book signing event for Branding the Candidate.  Authors Lisa Spiller and Jeff Bergner will be in attendance to sign your copy of the book and to share some brief comments.  Attendees will receive 40% off the retail price of the book.  No RSVP is required.  We hope to see you there.  To learn more about the book\, Branding the Candidate\, visit their web site at www.brandingthecandidate.com.
X-ALT-DESC;FMTTYPE=text/html:<span style="font-size: 14px">Equidata will&nbsp\;host a book signing event for <span style="color: #b22222"><em><strong><span>Branding the Candidate</span></strong></em></span>.&nbsp\; Authors Lisa Spiller and Jeff Bergner will be in attendance to sign your copy of the book and to share some brief comments.&nbsp\; Attendees will receive 40% off the retail price of the book.&nbsp\; No RSVP is required.&nbsp\; We hope to see you there.&nbsp\; To learn more about&nbsp\;the book\, <span style="color: #b22222"><em><strong>Branding the Candidate</strong></em></span>\, visit their web site at <span style="color: #ee82ee"><strong><a href="http://www.brandingthecandidate.com">www.brandingthecandidate.com</a></strong></span>.&nbsp\; </span>
LOCATION:Equidata\, Inc. 724 Thimble Shoals Blvd Newport News\, VA 23606
UID:e.832.1256
SEQUENCE:3
DTSTAMP:20260423T171145Z
URL:https://business.virginiapeninsulachamber.com/events/details/branding-the-candidate-book-signing-10-18-2011-1256
END:VEVENT

END:VCALENDAR
