BEGIN:VCALENDAR
VERSION:2.0
PRODID:-//ChamberMaster//Event Calendar 2.0//EN
METHOD:PUBLISH
X-PUBLISHED-TTL:P3D
REFRESH-INTERVAL:P3D
CALSCALE:GREGORIAN
BEGIN:VEVENT
DTSTART:20130415T233000Z
DTEND:20130416T010000Z
X-MICROSOFT-CDO-ALLDAYEVENT:FALSE
SUMMARY:Boz Scaggs
DESCRIPTION:Grammy Award winning artist\, Boz Scaggs\, and his band will be performing the best known songs of his career. Chart makers like Lido Shuffle and Lowdown and many others have been fan favorites\, causing the raucous crowd to get on its feet and dance! Born in Texas and raised with an abiding respect for a wide spectrum of American roots music\, Scaggs has combined rock\, jazz\, R&B and blues to create a trademark sound. With an extensive and distinctive career that has spanned 30 years and many accolades\, Scaggs continues to prove himself as one of music's most creative and original artists. Boz Scaggs' current albums are Greatest Hits Live and Speak Low.
X-ALT-DESC;FMTTYPE=text/html:Grammy Award winning artist\, Boz Scaggs\, and his band will be performing the best known songs of his career. Chart makers like Lido Shuffle and Lowdown and many others have been fan favorites\, causing the raucous crowd to get on its feet and dance! Born in Texas and raised with an abiding respect for a wide spectrum of American roots music\, Scaggs has combined rock\, jazz\, R&amp\;B and blues to create a trademark sound. With an extensive and distinctive career that has spanned 30 years and many accolades\, Scaggs continues to prove himself as one of music&#39\;s most creative and original artists. Boz Scaggs&rsquo\; current albums are Greatest Hits Live and Speak Low.
LOCATION:Ferguson Center for the Arts
UID:e.832.1540
SEQUENCE:3
DTSTAMP:20260422T123412Z
URL:https://business.virginiapeninsulachamber.com/events/details/boz-scaggs-04-15-2013-1540
END:VEVENT

END:VCALENDAR
