BEGIN:VCALENDAR
VERSION:2.0
PRODID:-//ChamberMaster//Event Calendar 2.0//EN
METHOD:PUBLISH
X-PUBLISHED-TTL:P3D
REFRESH-INTERVAL:P3D
CALSCALE:GREGORIAN
BEGIN:VEVENT
DTSTART:20140405T170000Z
DTEND:20140405T200000Z
X-MICROSOFT-CDO-ALLDAYEVENT:FALSE
SUMMARY:Be Your Own Kind of Star in Girl Scouts
DESCRIPTION:On Saturday\, April 5\, from 1 to 4 p.m.\, Girl Scouts of the Colonial Coast will be hosting talent showcases at Pembroke Mall\, Patrick Henry Mall and Southgate Mall. At these free events\, girls and their families can enjoy fun\, hands-on activities and explore booths to learn about opportunities with Girl Scouts and community partners. There will be live entertainment from Young Audiences of Virginia in addition to Girl Scout talent performances. This event is designed for girls and their families to learn more about becoming a member of Girl Scouts. Currently registered Girl Scouts may attend and participate by bringing a friend who registers to become a Girl Scout. Girl Scouts who add a member are eligible to receive a Power of One patch. The new Girl Scout will also be eligible to receive the patch. In Girl Scouts\, there are always new opportunities for girls to have new experiences\, where they make new friends\, challenge themselves to try new things and have fun! This talent showcase is an opportunity for girls to build and show their courage and confidence as they take center stage and shine. This event is being generously sponsored by FOX43\, WAVY-TV 10\, Young Audiences of Virginia and Tidewater Family Magazine.
X-ALT-DESC;FMTTYPE=text/html:On Saturday\, April 5\, from 1 to 4 p.m.\, Girl Scouts of the Colonial Coast will be hosting talent showcases at Pembroke Mall\, Patrick Henry Mall and Southgate Mall. At these free events\, girls and their families can enjoy fun\, hands-on activities and explore booths to learn about opportunities with Girl Scouts and community partners. There will be live entertainment from Young Audiences of Virginia in addition to Girl Scout talent performances. This event is designed for girls and their families to learn more about becoming a member of Girl Scouts. Currently registered Girl Scouts may attend and participate by bringing a friend who registers to become a Girl Scout. Girl Scouts who add a member are eligible to receive a Power of One patch. The new Girl Scout will also be eligible to receive the patch. In Girl Scouts\, there are always new opportunities for girls to have new experiences\, where they make new friends\, challenge themselves to try new things and have fun! This talent showcase is an opportunity for girls to build and show their courage and confidence as they take center stage and shine. This event is being generously sponsored by FOX43\, WAVY-TV 10\, Young Audiences of Virginia and Tidewater Family Magazine.
LOCATION:Patrick Henry Mall\, Pembroke Mall and Southgate Mall
UID:e.832.1985
SEQUENCE:3
DTSTAMP:20260421T171054Z
URL:https://business.virginiapeninsulachamber.com/events/details/be-your-own-kind-of-star-in-girl-scouts-04-05-2014-1985
END:VEVENT

END:VCALENDAR
