BEGIN:VCALENDAR
VERSION:2.0
PRODID:-//ChamberMaster//Event Calendar 2.0//EN
METHOD:PUBLISH
X-PUBLISHED-TTL:P3D
REFRESH-INTERVAL:P3D
CALSCALE:GREGORIAN
BEGIN:VEVENT
DTSTART:20121110T210000Z
DTEND:20121111T000000Z
X-MICROSOFT-CDO-ALLDAYEVENT:FALSE
SUMMARY:"Aww... Shucks Oyster Roast" at the Crab Shack on the James
DESCRIPTION:Spread the word! "Aww Shucks Oyster Roast" benefiting Trinity Lutheran School will take place at the Crab Shack on the James River Nov. 10 from 4 to 7 pm. All-you-can-eat oysters shucked by local watermen\, spit-roasted pork BBQ\, beer/wine tickets\, local artwork\, live acoustic music\, theme basket auction\, wine pairings\, "Oysters 101" by the Mariners' Museum\, and more! $40/person\, $75/couple.
X-ALT-DESC;FMTTYPE=text/html:<span style="color: rgb(51\, 51\, 51)\; font-family: 'lucida grande'\, tahoma\, verdana\, arial\, sans-serif\; font-size: 12.727272033691406px\; line-height: 17.999998092651367px\; ">Spread the word! &quot\;Aww Shucks Oyster Roast&quot\; benefiting Trinity Lutheran School will take place at the Crab Shack on the James River Nov. 10 from 4 to 7 pm. All-you-can-eat oysters shucked by local watermen\, spit-roasted pork BBQ\, beer/wine tickets\, local artwork\, live acoustic music\, theme basket auction\, wine pairings\, &quot\;Oysters 101&quot\; by the Mariners&#39\; Museum\, and more! $40/person\, $75/couple.</span>
LOCATION:The Crab Shack on the James 7601 River Rd. Newport News\, VA 23607
UID:e.832.1502
SEQUENCE:3
DTSTAMP:20260422T230447Z
URL:https://business.virginiapeninsulachamber.com/events/details/aww-shucks-oyster-roast-at-the-crab-shack-on-the-james-11-10-2012-1502
END:VEVENT

END:VCALENDAR
