BEGIN:VCALENDAR
VERSION:2.0
PRODID:-//ChamberMaster//Event Calendar 2.0//EN
METHOD:PUBLISH
X-PUBLISHED-TTL:P3D
REFRESH-INTERVAL:P3D
CALSCALE:GREGORIAN
BEGIN:VEVENT
DTSTART:20120519T220000Z
DTEND:20120520T030000Z
X-MICROSOFT-CDO-ALLDAYEVENT:FALSE
SUMMARY:ACTIVE DUTY-Military Appreciation Night @ Langley Speedway
DESCRIPTION:ACTIVE DUTY & Dependent REGISTRATION\n\n	 \n Follow these instructions:\n\n To receive your Free Admission to the Raceway for this event \n\n	\n		Register yourself and your dependents \n	\n		Print your Confirmation (THIS WILL BE YOUR TICKET)\n	\n		Bring Confirmation to the gate for FREE Admission\n	\n		Military ID will be required for all those that are registered\n\n \n\nClick here for event details\, including Military Activities and Races
X-ALT-DESC;FMTTYPE=text/html:<br />\n<p>\n	&nbsp\;&nbsp\;<u> <span style="font-size: 14px"><strong>ACTIVE DUTY &amp\; Dependent REGISTRATION</strong></span></u></p>\n<p>\n	&nbsp\;</p>\n<span style="font-size: 14px"><strong>&nbsp\;Follow these instructions:<br />\n&nbsp\;To&nbsp\;receive your <span style="color: #ff0000"><em><u>Free</u> </em></span>Admission to the Raceway for this event </strong></span>\n<ol>\n	<li>\n		<span style="font-size: 14px"><strong>Register yourself and your dependents </strong></span></li>\n	<li>\n		<span style="font-size: 14px"><strong>Print&nbsp\;your Confirmation<span style="color: #ff0000"> (THIS WILL BE&nbsp\;YOUR TICKET</span>)</strong></span></li>\n	<li>\n		<span style="font-size: 14px"><strong>Bring Confirmation to the gate for FREE Admission</strong></span></li>\n	<li>\n		<span style="font-size: 14px"><strong>Military ID will be required for all those that are registered</strong></span></li>\n</ol>\n<span _fck_bookmark="1" id="cke_bm_62S" style="display: none">&nbsp\;</span><br />\n<strong>Click<span style="color: #0000ff"> <a href="http://www.virginiapeninsulachamber.com/files/1412.pdf">here</a> </span>for event details\, including Military Activities and Races</strong><br />\n
LOCATION:Langley Speedway 3165 N. Armistead Avenue Hampton\, VA 23666
UID:e.832.1311
SEQUENCE:3
DTSTAMP:20260423T082233Z
URL:https://business.virginiapeninsulachamber.com/events/details/active-duty-military-appreciation-night-langley-speedway-05-19-2012-1311
END:VEVENT

END:VCALENDAR
